BEGIN:VCALENDAR
VERSION:2.0
PRODID:-//Secretaria Municipal de Cultura e Turismo - ECPv6.15.13//NONSGML v1.0//EN
CALSCALE:GREGORIAN
METHOD:PUBLISH
X-ORIGINAL-URL:https://culturasbo.com
X-WR-CALDESC:Eventos para Secretaria Municipal de Cultura e Turismo
REFRESH-INTERVAL;VALUE=DURATION:PT1H
X-Robots-Tag:noindex
X-PUBLISHED-TTL:PT1H
BEGIN:VTIMEZONE
TZID:America/Sao_Paulo
BEGIN:STANDARD
TZOFFSETFROM:-0300
TZOFFSETTO:-0300
TZNAME:-03
DTSTART:20230101T000000
END:STANDARD
END:VTIMEZONE
BEGIN:VEVENT
DTSTART;VALUE=DATE:20240427
DTEND;VALUE=DATE:20240429
DTSTAMP:20260424T220227
CREATED:20231219T164524Z
LAST-MODIFIED:20241008T114454Z
UID:12055-1714176000-1714348799@culturasbo.com
SUMMARY:Festival Gastronômico - Comida de Rua
DESCRIPTION:
URL:https://culturasbo.com/evento/festival-gastronomico-comida-de-rua/
CATEGORIES:Exposição,Show
ATTACH;FMTTYPE=image/jpeg:https://culturasbo.com/wp-content/uploads/2023/12/Comida-de-Rua.jpg
END:VEVENT
END:VCALENDAR