BEGIN:VCALENDAR
VERSION:2.0
PRODID:-//Secretaria Municipal de Cultura e Turismo - ECPv6.15.13//NONSGML v1.0//EN
CALSCALE:GREGORIAN
METHOD:PUBLISH
X-ORIGINAL-URL:https://culturasbo.com
X-WR-CALDESC:Eventos para Secretaria Municipal de Cultura e Turismo
REFRESH-INTERVAL;VALUE=DURATION:PT1H
X-Robots-Tag:noindex
X-PUBLISHED-TTL:PT1H
BEGIN:VTIMEZONE
TZID:America/Sao_Paulo
BEGIN:STANDARD
TZOFFSETFROM:-0300
TZOFFSETTO:-0300
TZNAME:-03
DTSTART:20230101T000000
END:STANDARD
END:VTIMEZONE
BEGIN:VEVENT
DTSTART;TZID=America/Sao_Paulo:20240504T140000
DTEND;TZID=America/Sao_Paulo:20240504T220000
DTSTAMP:20260424T220227
CREATED:20240422T170812Z
LAST-MODIFIED:20241008T114454Z
UID:12826-1714831200-1714860000@culturasbo.com
SUMMARY:Rockabilly Day SBO - 2ª EDIÇÃO
DESCRIPTION:Classificação: Livre \nEntrada: Gratuita \nInformações: (19) 99650-5152 \nSinopse:\nA maior festa anos 50 a céu aberto do interior paulista está de volta com muita música\, concurso de dança rockabilly\, concurso de pinups\, food trucks\, expositores\, área kids\, comemoração do aniversário do moto clube perdidos e muito mais! capriche no topete\, separe sua saia rodada e venha voltar aos anos 50 conosco! \n* Ficha técnica:\nCoordenação Geral: Kethlen Rose Inácio da Silva\nCoordenação Musical: Renne Froner\nCoordenação Artística: Muca Massaruto
URL:https://culturasbo.com/evento/rockabilly-day-sbo-2a-edicao/
LOCATION:Museu da Imigração\, R. João Lino\, 371 - Centro\, Santa Bárbara d'Oeste\, SP\, 13450-001\, Brasil
CATEGORIES:Música
ATTACH;FMTTYPE=image/jpeg:https://culturasbo.com/wp-content/uploads/2024/04/FOTO-ATUALIZADA-2.jpg
END:VEVENT
END:VCALENDAR