BEGIN:VCALENDAR
VERSION:2.0
PRODID:-//Secretaria Municipal de Cultura e Turismo - ECPv6.15.13//NONSGML v1.0//EN
CALSCALE:GREGORIAN
METHOD:PUBLISH
X-ORIGINAL-URL:https://culturasbo.com
X-WR-CALDESC:Eventos para Secretaria Municipal de Cultura e Turismo
REFRESH-INTERVAL;VALUE=DURATION:PT1H
X-Robots-Tag:noindex
X-PUBLISHED-TTL:PT1H
BEGIN:VTIMEZONE
TZID:America/Sao_Paulo
BEGIN:STANDARD
TZOFFSETFROM:-0300
TZOFFSETTO:-0300
TZNAME:-03
DTSTART:20230101T000000
END:STANDARD
END:VTIMEZONE
BEGIN:VEVENT
DTSTART;TZID=America/Sao_Paulo:20240510T103000
DTEND;TZID=America/Sao_Paulo:20240510T130000
DTSTAMP:20260424T220227
CREATED:20240408T171521Z
LAST-MODIFIED:20241008T114454Z
UID:12704-1715337000-1715346000@culturasbo.com
SUMMARY:Albertinho\, o Menino Voador – Teatro de Sombras
DESCRIPTION:Classificação: Livre \nEntrada: Gratuita \nInformações: (11) 99505-3938 – Valter Valverde \nSinopse:\nO espetáculo\, que utiliza as linguagens de Teatro de Sombras\, Teatro de Objetos e o trabalho do Ator\, conta a história de Alberto Santos Dumont\, sua infância\, suas leituras dos livros de Júlio Verne que o inspiraram na construção de balões e seu feito mais marcante que foi a construção de um aparelho mais pesado que o ar\, o famoso 14-bis. \n* Ficha técnica:\nProdução: Cia Luzes e Lendas\nTexto e Direção: Valter Valverde\nAtores / manipuladores: Thiago Oliveira e André Lima\nConcepção visual: Lourenço Amaral Júnior\nCenários\, adereços e confecção dos bonecos: Lourenço Amaral Júnior e Valter Valverde\nMúsica e efeitos sonoros: Valter Valverde\nDuração: 50 minutos                        
URL:https://culturasbo.com/evento/albertinho-o-menino-voador-teatro-de-sombras-2/
LOCATION:E.E. Profª Jadyr Guimarães Castro\, Rua Ten. Cel. José Gabriel de Oliveira e Souza\, 751\, Parque Res. Zabani\, Santa Bárbara d'Oeste\, SP\, 13454-500\, Brasil
CATEGORIES:Teatro
ATTACH;FMTTYPE=image/jpeg:https://culturasbo.com/wp-content/uploads/2024/04/foto-atualizada-1.jpg
END:VEVENT
BEGIN:VEVENT
DTSTART;TZID=America/Sao_Paulo:20240510T180000
DTEND;TZID=America/Sao_Paulo:20240510T180000
DTSTAMP:20260424T220227
CREATED:20240508T143118Z
LAST-MODIFIED:20241008T114454Z
UID:13176-1715364000-1715364000@culturasbo.com
SUMMARY:Happy Hour da Corporação Musical União Barbarense
DESCRIPTION:Classificação: Livre \nEntrada: Gratuita \nInformações: (19) 99696-6734 \nSinopse:\nEvento aberto ao público com apresentação da Corporação Musical\, show acústico da cantora Odara e Praça de Alimentação.
URL:https://culturasbo.com/evento/happy-hour-da-corporacao-musical-uniao-barbarense/
LOCATION:Centro de Memórias\, R. João Lino\, 362 - Centro\, Santa Bárbara d'Oeste\, São Paulo\, 13450-033\, Brasil
CATEGORIES:Evento
ATTACH;FMTTYPE=image/jpeg:https://culturasbo.com/wp-content/uploads/2024/05/FOTO-ATUALIZADA-2.jpg
END:VEVENT
BEGIN:VEVENT
DTSTART;TZID=America/Sao_Paulo:20240510T200000
DTEND;TZID=America/Sao_Paulo:20240510T200000
DTSTAMP:20260424T220227
CREATED:20240503T183809Z
LAST-MODIFIED:20241008T114454Z
UID:13117-1715371200-1715371200@culturasbo.com
SUMMARY:Mostra Juventude em Foco
DESCRIPTION:Classificação: 12 anos \nEntrada: Gratuita \nInformações: (19) 99955-3099 \nSinopse:\nA Mostra Juventude em foco é uma mostra itinerante que visa realizar exibições do obra audiovisual “Trovoa” em espaços culturais e Escolas estaduais do município de Santa Bárbara d’Oeste\, acompanhadas de uma mediação entre a equipe do projeto\, uma profissional de psicologia e o público das atividades. Há um abismo entre a vida adolescente e a vida adulta. A incompreensão existente entre os extremos\, torna a solidão uma sensação inerente ao ser\, trazendo riscos muitas vezes irreversíveis à fragilidade humana. A proposta é diminuir esse abismo. Naturalizar a intensidade das coisas na juventude e abrir portas para a discussão de importantes desafios enfrentados nesta fase. \nFicha técnica:\nConcepção e Direção: Otávio Delaneza\nDramaturgia: Denis Espanhol em processo colaborativo\nElenco: Brunna Oliveira\, Denis Espanhol\, Gabriel Mazon\, Lays Ramires e Vinícius Pestana\nOrientação temática: Cristiane Maria (psicóloga especializada)\nTrilha Sonora original: Nenung\nVozes: Nenung e Letícia Roennau\nViolões\, guitarra\, backings vocais\, baixo\, teclados e piano: Thiago Heinrich\nSinths\, bases\, mixagem e masterização: Edo Portugal\nIluminação e Direção de Produção: Lays Ramires\nCenografia e Figurinos: Cia Arte-Móvel\nCaptação de imagem e direção de câmera: Otávio Delaneza\nIntérprete de Libras: Victor Pascoalini\nProdutora audiovisual: Inspira Comunicação Integrada
URL:https://culturasbo.com/evento/mostra-juventude-em-foco/
LOCATION:CEU das Artes -“Ariovaldo Inácio – ‘Vardão’”\, Rua: Argeu Egídio dos Santos\, 100 - Planalto do Sol II\, Santa Bárbara d'Oeste\, SP\, 13453-842\, Brasil
CATEGORIES:Audiovisual
ATTACH;FMTTYPE=image/png:https://culturasbo.com/wp-content/uploads/2024/05/Trovoa_Otavio-Delaneza-1.png
END:VEVENT
END:VCALENDAR