BEGIN:VCALENDAR
VERSION:2.0
PRODID:-//Secretaria Municipal de Cultura e Turismo - ECPv6.15.13//NONSGML v1.0//EN
CALSCALE:GREGORIAN
METHOD:PUBLISH
X-WR-CALNAME:Secretaria Municipal de Cultura e Turismo
X-ORIGINAL-URL:https://culturasbo.com
X-WR-CALDESC:Eventos para Secretaria Municipal de Cultura e Turismo
REFRESH-INTERVAL;VALUE=DURATION:PT1H
X-Robots-Tag:noindex
X-PUBLISHED-TTL:PT1H
BEGIN:VTIMEZONE
TZID:America/Sao_Paulo
BEGIN:STANDARD
TZOFFSETFROM:-0300
TZOFFSETTO:-0300
TZNAME:-03
DTSTART:20230101T000000
END:STANDARD
END:VTIMEZONE
BEGIN:VEVENT
DTSTART;TZID=America/Sao_Paulo:20240513T100000
DTEND;TZID=America/Sao_Paulo:20240513T100000
DTSTAMP:20260424T220228
CREATED:20240404T140900Z
LAST-MODIFIED:20241008T114453Z
UID:12632-1715594400-1715594400@culturasbo.com
SUMMARY:Albertinho\, o Menino Voador - Teatro de Sombras
DESCRIPTION:Classificação: Livre \nEntrada: Gratuita \nInformações: (11) 99505-3938 – Valter Valverde \nSinopse:\nO espetáculo\, que utiliza as linguagens de Teatro de Sombras\, Teatro de Objetos e o trabalho do Ator\, conta a história de Alberto Santos Dumont\, sua infância\, suas leituras dos livros de Júlio Verne que o inspiraram na construção de balões e seu feito mais marcante que foi a construção de um aparelho mais pesado que o ar\, o famoso 14-bis. \n* Ficha técnica:\nProdução: Cia Luzes e Lendas\nTexto e Direção: Valter Valverde\nAtores / manipuladores: Thiago Oliveira e André Lima\nConcepção visual: Lourenço Amaral Júnior\nCenários\, adereços e confecção dos bonecos: Lourenço Amaral Júnior e Valter Valverde\nMúsica e efeitos sonoros: Valter Valverde\nDuração: 50 minutos                        
URL:https://culturasbo.com/evento/albertinho-o-menino-voador-teatro-de-sombras/
LOCATION:Centro Cultural “Edgard Tricânico D’elboux”\, Rua: Padre Arthur Sampaio\, 76 - Conj. Hab. Roberto Romano\, Santa Bárbara d'Oeste\, SP\, 13458-184
CATEGORIES:Teatro
ATTACH;FMTTYPE=image/jpeg:https://culturasbo.com/wp-content/uploads/2024/04/foto-atualizada-1.jpg
END:VEVENT
END:VCALENDAR