BEGIN:VCALENDAR
VERSION:2.0
PRODID:-//Secretaria Municipal de Cultura e Turismo - ECPv6.15.13//NONSGML v1.0//EN
CALSCALE:GREGORIAN
METHOD:PUBLISH
X-WR-CALNAME:Secretaria Municipal de Cultura e Turismo
X-ORIGINAL-URL:https://culturasbo.com
X-WR-CALDESC:Eventos para Secretaria Municipal de Cultura e Turismo
REFRESH-INTERVAL;VALUE=DURATION:PT1H
X-Robots-Tag:noindex
X-PUBLISHED-TTL:PT1H
BEGIN:VTIMEZONE
TZID:America/Sao_Paulo
BEGIN:STANDARD
TZOFFSETFROM:-0300
TZOFFSETTO:-0300
TZNAME:-03
DTSTART:20230101T000000
END:STANDARD
END:VTIMEZONE
BEGIN:VEVENT
DTSTART;TZID=America/Sao_Paulo:20240516T083000
DTEND;TZID=America/Sao_Paulo:20240516T083000
DTSTAMP:20260424T220229
CREATED:20240312T174745Z
LAST-MODIFIED:20241008T114453Z
UID:12461-1715848200-1715848200@culturasbo.com
SUMMARY:"Rolando Causos"
DESCRIPTION:Classificação: Livre \nEntrada: Gratuita \nInformações: (19) 99767-2582 \nSinopse:\nO espetáculo teatral “Rolando Causos” através de diferentes situações vividas pelos divertidos personagens Zé Lari e Zé Larai\, são recontadas histórias de antigamente e da zona rural\, contos e causos tradicionais e populares\, pesquisadas com antigos moradores de Santa Bárbara d’Oeste. Usando os mais diferentes recursos e técnicas\, as histórias: “Os causos e as histórias de pescador”\, “Causos de Viagem”\, “Causos do Arraiá”\, são alguns dos momentos divertidos e hilários deste espetáculo realizado pelos experientes atores/narradores Amauri de Oliveira e Roberto Isler\, destacando as diferenças\, as riquezas e o valor das histórias caipiras e tradicionais para o público jovem e no resgate da memória para o público de terceira idade. \nApós a apresentação\, haverá bate papo com o público. \n* Ficha técnica:\nAtor/narrador: Amauri de Oliveira\nAtor/narrador: Roberto Isler\nTécnica: Renata de Paula\nTécnica: André Lima\nFotógrafo: Gilberto Neves\nDesigner gráfico: Thiago Oliveira \n* Website:\nhttps://www.instagram.com/ciaxekmat/\nhttps://www.facebook.com/CiaXekmat
URL:https://culturasbo.com/evento/rolando-causos-5/
LOCATION:Centro Dia do Idoso “Maria de Lourdes Alves da Silva – Dona Nena”\, Rua Tunísia\, 195 - Cândido Bertini\, Santa Bárbara d'Oeste\, SP\, 13455-183\, Brasil
CATEGORIES:Teatro
ATTACH;FMTTYPE=image/jpeg:https://culturasbo.com/wp-content/uploads/2024/03/FOTO-ATUALIZADA-1-1-2.jpg
END:VEVENT
END:VCALENDAR