BEGIN:VCALENDAR
VERSION:2.0
PRODID:-//Secretaria Municipal de Cultura e Turismo - ECPv6.15.13//NONSGML v1.0//EN
CALSCALE:GREGORIAN
METHOD:PUBLISH
X-WR-CALNAME:Secretaria Municipal de Cultura e Turismo
X-ORIGINAL-URL:https://culturasbo.com
X-WR-CALDESC:Eventos para Secretaria Municipal de Cultura e Turismo
REFRESH-INTERVAL;VALUE=DURATION:PT1H
X-Robots-Tag:noindex
X-PUBLISHED-TTL:PT1H
BEGIN:VTIMEZONE
TZID:America/Sao_Paulo
BEGIN:STANDARD
TZOFFSETFROM:-0300
TZOFFSETTO:-0300
TZNAME:-03
DTSTART:20230101T000000
END:STANDARD
END:VTIMEZONE
BEGIN:VEVENT
DTSTART;VALUE=DATE:20240514
DTEND;VALUE=DATE:20240517
DTSTAMP:20260424T220229
CREATED:20231219T145546Z
LAST-MODIFIED:20241008T114453Z
UID:12032-1715644800-1715903999@culturasbo.com
SUMMARY:Recitar - A Palavra em Verso Vivo
DESCRIPTION:
URL:https://culturasbo.com/evento/recitar-a-palavra-em-verso-vivo/
CATEGORIES:Teatro
ATTACH;FMTTYPE=image/jpeg:https://culturasbo.com/wp-content/uploads/2023/12/Recitar.jpg
END:VEVENT
BEGIN:VEVENT
DTSTART;TZID=America/Sao_Paulo:20240523T190000
DTEND;TZID=America/Sao_Paulo:20240523T190000
DTSTAMP:20260424T220229
CREATED:20240507T175903Z
LAST-MODIFIED:20241008T114453Z
UID:13168-1716490800-1716490800@culturasbo.com
SUMMARY:Círculo do Livro – "Se Deus me chamar não vou” de Mariana Salomão Carrara
DESCRIPTION:Classificação: 18 anos \nEntrada: Gratuita (não precisa de inscrição) \nInformações entre em contato pelo WhatsApp da Biblioteca : (19) 3455-2619    https://wa.me/message/2UQZSXT4QHBKM1 \n* Sobre a Obra:\nQuem vai te contar essa história é uma criança de 11 anos. O olhar fresco e bem humorado de quem ainda vê a vida como mistério está aqui\, mas vá por mim: não subestime a solidão de Maria Carmem. A aprendiz de escritora\, enfrentando as angústias da “pior idade do universo”\, irá te provar que é possível\, sim\, que uma menina seja mais solitária do que um velho. \nTeremos sorteio de um livro\, com o título a ser escolhido pela biblioteca!
URL:https://culturasbo.com/evento/circulo-do-livro-se-deus-me-chamar-nao-vou-de-mariana-salomao-carrara/
LOCATION:Biblioteca Pública Municipal “Maria Aparecida Almeida Nogueira”\, Rua: Campos Salles\, 72 - Vila Breda\, Santa Bárbara d'Oeste\, SP\, 13450-219\, Brasil
CATEGORIES:Círculo do Livro
ATTACH;FMTTYPE=image/jpeg:https://culturasbo.com/wp-content/uploads/2024/05/foto-atualizada-1.jpg
END:VEVENT
BEGIN:VEVENT
DTSTART;TZID=America/Sao_Paulo:20240523T200000
DTEND;TZID=America/Sao_Paulo:20240523T200000
DTSTAMP:20260424T220229
CREATED:20240523T143057Z
LAST-MODIFIED:20241008T114442Z
UID:13441-1716494400-1716494400@culturasbo.com
SUMMARY:Serenata da Lua Cheia
DESCRIPTION:Classificação: Livre \nEntrada: Gratuita \nInformações: (19) 3455-7000 \nSinopse: \nTrata-se de um projeto para divulgar a música de seresta. O objetivo principal é fazer um resgate das músicas de seresta desde o ano de 1900 e também\, divulgar essas músicas\, tanto para quem já aprecia esse estilo\, como também para os “mais jovens” que desconhecem esse gênero musical. \nAcontece mensalmente\, na primeira noite da Lua Cheia\, quando o grupo AMIGOS SERESTEIROS (grupo que faz serenatas pela cidade há mais de 20 anos) se reúnem para uma apresentação\, cantando músicas de seresta. \nO evento é aberto ao público e tem a duração aproximada de 60 minutos. \n* Ficha técnica:\nAmigos Seresteiros
URL:https://culturasbo.com/evento/serenata-da-lua-cheia/
LOCATION:Museu da Imigração\, R. João Lino\, 371 - Centro\, Santa Bárbara d'Oeste\, SP\, 13450-001\, Brasil
CATEGORIES:Apresentação Artística,Música
ATTACH;FMTTYPE=image/jpeg:https://culturasbo.com/wp-content/uploads/2024/05/FOTO-ATUALIZADA-5.jpg
END:VEVENT
END:VCALENDAR