BEGIN:VCALENDAR
VERSION:2.0
PRODID:-//Secretaria Municipal de Cultura e Turismo - ECPv6.15.13//NONSGML v1.0//EN
CALSCALE:GREGORIAN
METHOD:PUBLISH
X-WR-CALNAME:Secretaria Municipal de Cultura e Turismo
X-ORIGINAL-URL:https://culturasbo.com
X-WR-CALDESC:Eventos para Secretaria Municipal de Cultura e Turismo
REFRESH-INTERVAL;VALUE=DURATION:PT1H
X-Robots-Tag:noindex
X-PUBLISHED-TTL:PT1H
BEGIN:VTIMEZONE
TZID:America/Sao_Paulo
BEGIN:STANDARD
TZOFFSETFROM:-0300
TZOFFSETTO:-0300
TZNAME:-03
DTSTART:20230101T000000
END:STANDARD
END:VTIMEZONE
BEGIN:VEVENT
DTSTART;TZID=America/Sao_Paulo:20240525T170000
DTEND;TZID=America/Sao_Paulo:20240525T170000
DTSTAMP:20260424T220229
CREATED:20240522T184746Z
LAST-MODIFIED:20241008T114442Z
UID:13443-1716656400-1716656400@culturasbo.com
SUMMARY:Projeto Africanidade – 3° roda na Praça da Imigração
DESCRIPTION:Classificação: Livre \nEntrada: Gratuita \nInformações: (19) 99334-6146 \nSinopse:\nO projeto “africanidades” tem como propósito o resgate e a difusão da cultura afro-brasileira através da capoeira e manifestações culturais tradicionais\, apresentadas em praças na cidade. Na busca de fortalecer a identidade e a “quebra de invisibilidade”\, valorizando estas manifestações culturais sob um ponto de vista afirmativo e diaspórico. \n*Ficha técnica:\nCoordenação geral Silvia Motta e equipe Motta Produções. \n*Website:\nhttps://www.instagram.com/motta_capoeira/
URL:https://culturasbo.com/evento/projeto-africanidade-3-roda-na-praca-da-imigracao/
LOCATION:Praça da Migração\, Av. da Indústria\, s/n - Jardim Perola\, Santa Bárbara d'Oeste\, São Paulo\, Brasil
CATEGORIES:Apresentação Artística "Cultura Afro Brasileira"
ATTACH;FMTTYPE=image/jpeg:https://culturasbo.com/wp-content/uploads/2024/03/FOTO-ATUALIZADA-1.jpg
END:VEVENT
END:VCALENDAR