BEGIN:VCALENDAR
VERSION:2.0
PRODID:-//Secretaria Municipal de Cultura e Turismo - ECPv6.15.13//NONSGML v1.0//EN
CALSCALE:GREGORIAN
METHOD:PUBLISH
X-WR-CALNAME:Secretaria Municipal de Cultura e Turismo
X-ORIGINAL-URL:https://culturasbo.com
X-WR-CALDESC:Eventos para Secretaria Municipal de Cultura e Turismo
REFRESH-INTERVAL;VALUE=DURATION:PT1H
X-Robots-Tag:noindex
X-PUBLISHED-TTL:PT1H
BEGIN:VTIMEZONE
TZID:America/Sao_Paulo
BEGIN:STANDARD
TZOFFSETFROM:-0300
TZOFFSETTO:-0300
TZNAME:-03
DTSTART:20230101T000000
END:STANDARD
END:VTIMEZONE
BEGIN:VEVENT
DTSTART;TZID=America/Sao_Paulo:20240701T190000
DTEND;TZID=America/Sao_Paulo:20240701T190000
DTSTAMP:20260424T193224
CREATED:20240620T174753Z
LAST-MODIFIED:20241008T114426Z
UID:13608-1719860400-1719860400@culturasbo.com
SUMMARY:"Os mequetrefe"
DESCRIPTION:Classificação: Livre \nEntrada: Gratuita (retirada de ingressos 1h antes do espetáculo) \nSinopse:\nEm Os Mequetrefe quatro palhaços que\, não por acaso\, se chamam Dias\, vivem a jornada de um longo e divertido dia. Do despertar à hora de ir dormir\, revelam como a desconstrução da lógica cotidiana pode abrir espaço para outras maneiras de encarar a vida. Vivendo situações bem comuns esses cidadãos nada comuns provocam uma série de confusões tão hilárias quanto poéticas. \n* Ficha técnica: \nCia Parlapatões \nHugo Possolo de Soveral Neto\nArtista circense \nRaul Carlos Pereira Barretto Filho\nArtista circense \nFábio Cassiano Capreri\nArtista circense \nAlexandre Morais Moreira\nArtista circense \nTadeu Augusto Pinheiro\nArtista circense
URL:https://culturasbo.com/evento/os-mequetrefe/
LOCATION:Teatro Municipal Manoel Lyra\, Rua João XXIII\, 61 - Centro\, Santa Bárbara d'Oeste\, SP\, 13450-040\, Brasil
CATEGORIES:Teatro
ATTACH;FMTTYPE=image/jpeg:https://culturasbo.com/wp-content/uploads/2024/06/foto-atualizada-2.jpg
END:VEVENT
END:VCALENDAR