BEGIN:VCALENDAR
VERSION:2.0
PRODID:-//Secretaria Municipal de Cultura e Turismo - ECPv6.15.13//NONSGML v1.0//EN
CALSCALE:GREGORIAN
METHOD:PUBLISH
X-WR-CALNAME:Secretaria Municipal de Cultura e Turismo
X-ORIGINAL-URL:https://culturasbo.com
X-WR-CALDESC:Eventos para Secretaria Municipal de Cultura e Turismo
REFRESH-INTERVAL;VALUE=DURATION:PT1H
X-Robots-Tag:noindex
X-PUBLISHED-TTL:PT1H
BEGIN:VTIMEZONE
TZID:America/Sao_Paulo
BEGIN:STANDARD
TZOFFSETFROM:-0300
TZOFFSETTO:-0300
TZNAME:-03
DTSTART:20230101T000000
END:STANDARD
END:VTIMEZONE
BEGIN:VEVENT
DTSTART;VALUE=DATE:20240706
DTEND;VALUE=DATE:20240708
DTSTAMP:20260424T193224
CREATED:20231219T163251Z
LAST-MODIFIED:20241008T114426Z
UID:12047-1720224000-1720396799@culturasbo.com
SUMMARY:Festival Literário de Santa Bárbara - FLISB
DESCRIPTION:
URL:https://culturasbo.com/evento/festival-literario-de-santa-barbara/
CATEGORIES:Festival
ATTACH;FMTTYPE=image/jpeg:https://culturasbo.com/wp-content/uploads/2023/12/Festival-Literario-reduzido.jpg
END:VEVENT
BEGIN:VEVENT
DTSTART;TZID=America/Sao_Paulo:20240706T160000
DTEND;TZID=America/Sao_Paulo:20240706T160000
DTSTAMP:20260424T193224
CREATED:20240620T185125Z
LAST-MODIFIED:20241008T114426Z
UID:13698-1720281600-1720281600@culturasbo.com
SUMMARY:ABRAKBÇA: uma viagem pelo mundo mágico do hip-hop
DESCRIPTION:Classificação: Livre \nEntrada: Gratuita (Retirada de ingressos 1h antes do espetáculo) \nSinopse:\nABRAKBÇA: uma viagem pelo mundo mágico do hip-hop é um passeio divertido em um universo lúdico criado por um MC Mágico encantador de palavras\, conectando a atitude do hip-hop e a criatividade das crianças. O projeto já tem um álbum lançado com 10 faixas musicais e conta com 5 videoclipes em animação que colecionam prêmios em festivais nacionais e internacionais. No SHOW ABRAKBÇA somos todos convidados para uma viagem pelo mundo do hiphop. O show é uma homenagem à importância do hip-hop enquanto movimento cultural e social\, uma experiência inédita\, que desperta as crianças que habitam em cada um de nós\, da infância à melhor idade. Todo mundo é bem-vindo para cantar\, dançar e se divertir com as rimas do MC Renan Inquérito que divide o palco com os cantores Pop Black e Vih Mendes\, embalados pelos beats do DJ Viny Blanco e os movimentos fantásticos do breaking do B.boy Negão e da B.Girl Fran\, o show também conta com a participação especial do Borracha Beatbox que dá vida a incrível Vovó Beatbox e do multi-instrumentista Índio Sax. \n* Ficha técnica:\nRenan Inquérito – MC e cantor\nPop Black – Cantor\nVih Mendes – Cantora\nBorracha Beatbox – Beatboxer\nB.Boy Negão – B.Boy\nFran B.Girl – B.Girl\nÍndio Sax – Multinstrumentista\nViny Blanco – DJ \n 
URL:https://culturasbo.com/evento/abrakbca-uma-viagem-pelo-mundo-magico-do-hip-hop/
LOCATION:Teatro Municipal Manoel Lyra\, Rua João XXIII\, 61 - Centro\, Santa Bárbara d'Oeste\, SP\, 13450-040\, Brasil
CATEGORIES:Dança,Música,Teatro
ATTACH;FMTTYPE=image/jpeg:https://culturasbo.com/wp-content/uploads/2024/06/foto-atualizada-3.jpg
END:VEVENT
END:VCALENDAR