BEGIN:VCALENDAR
VERSION:2.0
PRODID:-//Secretaria Municipal de Cultura e Turismo - ECPv6.15.13//NONSGML v1.0//EN
CALSCALE:GREGORIAN
METHOD:PUBLISH
X-WR-CALNAME:Secretaria Municipal de Cultura e Turismo
X-ORIGINAL-URL:https://culturasbo.com
X-WR-CALDESC:Eventos para Secretaria Municipal de Cultura e Turismo
REFRESH-INTERVAL;VALUE=DURATION:PT1H
X-Robots-Tag:noindex
X-PUBLISHED-TTL:PT1H
BEGIN:VTIMEZONE
TZID:America/Sao_Paulo
BEGIN:STANDARD
TZOFFSETFROM:-0300
TZOFFSETTO:-0300
TZNAME:-03
DTSTART:20230101T000000
END:STANDARD
END:VTIMEZONE
BEGIN:VEVENT
DTSTART;TZID=America/Sao_Paulo:20241216T193000
DTEND;TZID=America/Sao_Paulo:20241217T193000
DTSTAMP:20260424T132927
CREATED:20241030T133633Z
LAST-MODIFIED:20241030T133757Z
UID:14473-1734377400-1734463800@culturasbo.com
SUMMARY:(Evento Fechado) Colégio Pilarzinho – Festival Artístico
DESCRIPTION:
URL:https://culturasbo.com/evento/evento-fechado-colegio-pilarzinho-festival-artistico/
LOCATION:Teatro Municipal Manoel Lyra\, Rua João XXIII\, 61 - Centro\, Santa Bárbara d'Oeste\, SP\, 13450-040\, Brasil
CATEGORIES:Festival
END:VEVENT
END:VCALENDAR