BEGIN:VCALENDAR
VERSION:2.0
PRODID:-//Secretaria Municipal de Cultura e Turismo - ECPv6.15.13//NONSGML v1.0//EN
CALSCALE:GREGORIAN
METHOD:PUBLISH
X-ORIGINAL-URL:https://culturasbo.com
X-WR-CALDESC:Eventos para Secretaria Municipal de Cultura e Turismo
REFRESH-INTERVAL;VALUE=DURATION:PT1H
X-Robots-Tag:noindex
X-PUBLISHED-TTL:PT1H
BEGIN:VTIMEZONE
TZID:America/Sao_Paulo
BEGIN:STANDARD
TZOFFSETFROM:-0300
TZOFFSETTO:-0300
TZNAME:-03
DTSTART:20240101T000000
END:STANDARD
END:VTIMEZONE
BEGIN:VEVENT
DTSTART;TZID=America/Sao_Paulo:20250208T110000
DTEND;TZID=America/Sao_Paulo:20250208T220000
DTSTAMP:20260424T104437
CREATED:20250204T194350Z
LAST-MODIFIED:20250204T194736Z
UID:15054-1739012400-1739052000@culturasbo.com
SUMMARY:29ª Mostra Japão em Santa Bárbara d’Oeste - 2° dia
DESCRIPTION:Classificação: Livre \nEntrada: Gratuita | 1 kg de alimento não perecível \nSinopse:\nA riqueza da cultura japonesa desembarca em Santa Bárbara d’Oeste para mais uma edição da Mostra Japão. Em sua 29ª edição\, o encontro será realizado no mês que vem\, no Complexo Usina Santa Bárbara\, mediante a doação solidária de 1 kg de alimento não perecível. O evento começará na sexta-feira (7/2)\, das 18 às 22 horas\, e segue no sábado (8/2) e no domingo (9/2)\, com programação das 11 às 22 horas. \nOs visitantes poderão desfrutar de uma vasta programação cultural que inclui apresentações de taiko (os tradicionais tambores japoneses)\, danças típicas\, o encantador Shishimai (dança do leão japonês)\, além de um vibrante Concurso Cosplay. \nAlém das apresentações\, a Mostra trará o melhor da gastronomia japonesa\, com pratos como sushi\, tempurá\, yakisoba e entre outros. Também será possível adquirir produtos orientais em estandes especialmente montados para o evento. \nServiço: \n🥁 Apresentações de Taiko\n👘 Danças típicas\n👹 Shishimai – Dança do Leão Japonês\n🦸‍♀ Concurso Cosplay\n🍙 A melhor gastronomia japonesa\n🛍 Produtos orientais em estandes exclusivos \nDia 7 de fevereiro\, sexta-feira\, das 18h às 22h\nDias 8 e 9 de fevereiro\, das 11h às 22h
URL:https://culturasbo.com/evento/29a-mostra-japao-em-santa-barbara-doeste-2/
LOCATION:Complexo Usina Santa Bárbara\, Rua Aristeo Carlos Pereira\, Santa Bárbara d'Oeste\, São Paulo\, Brasil
CATEGORIES:Apresentação Artística,Dança,Exposição,Feira
ATTACH;FMTTYPE=image/jpeg:https://culturasbo.com/wp-content/uploads/2024/03/2e3893159cb10c299e79751f2611d7d2.jpg
END:VEVENT
BEGIN:VEVENT
DTSTART;TZID=America/Sao_Paulo:20250208T160000
DTEND;TZID=America/Sao_Paulo:20250208T170000
DTSTAMP:20260424T104437
CREATED:20250123T164702Z
LAST-MODIFIED:20250123T164739Z
UID:15001-1739030400-1739034000@culturasbo.com
SUMMARY:Os 3 Porquinhos - Infantil
DESCRIPTION:Classificação: Livre\nIngressos: 50\,00 (Inteira) e 25\,00 (Meia)\nPromocional com Flayer: R$ 40\,00 sendo (01 adulto R$ 25\,00 e 01 criança R$ 15\,00)\nInformações: (19) 3464-9427 – Bilheteria
URL:https://culturasbo.com/evento/os-3-porquinhos-infantil/
LOCATION:Teatro Municipal Manoel Lyra\, Rua João XXIII\, 61 - Centro\, Santa Bárbara d'Oeste\, SP\, 13450-040\, Brasil
CATEGORIES:Teatro
END:VEVENT
END:VCALENDAR