BEGIN:VCALENDAR
VERSION:2.0
PRODID:-//Secretaria Municipal de Cultura e Turismo - ECPv6.15.13//NONSGML v1.0//EN
CALSCALE:GREGORIAN
METHOD:PUBLISH
X-WR-CALNAME:Secretaria Municipal de Cultura e Turismo
X-ORIGINAL-URL:https://culturasbo.com
X-WR-CALDESC:Eventos para Secretaria Municipal de Cultura e Turismo
REFRESH-INTERVAL;VALUE=DURATION:PT1H
X-Robots-Tag:noindex
X-PUBLISHED-TTL:PT1H
BEGIN:VTIMEZONE
TZID:America/Sao_Paulo
BEGIN:STANDARD
TZOFFSETFROM:-0300
TZOFFSETTO:-0300
TZNAME:-03
DTSTART:20240101T000000
END:STANDARD
END:VTIMEZONE
BEGIN:VEVENT
DTSTART;TZID=America/Sao_Paulo:20250209T080000
DTEND;TZID=America/Sao_Paulo:20250209T180000
DTSTAMP:20260424T104415
CREATED:20240515T171749Z
LAST-MODIFIED:20250123T165058Z
UID:13274-1739088000-1739124000@culturasbo.com
SUMMARY:Projeto Samb´Ajuda
DESCRIPTION:Classificação: Livre \nDoação: 1 kg de alimento não perecível ou 1 litro de leite \nInformações: celular: (19) 99715-7173 / (19) 97409-5579 \nSinopse:\nProjeto Samb’Ajuda é uma roda de samba com profissionais de diversas áreas que se dedicam a prática solidaria totalmente filantrópico pelo bem maior da comunidade. Consiste em uma apresentação de samba com intuito maior a arrecadação de alimentos dos participantes e simpatizantes do projeto\, que são destinadas as instituições beneficentes da cidade. \n* Ficha técnica:\nCoordenação: Virginia Vezani\nProdução: Eraldo Vaz\, Eunice Botari Vaz\, Beatriz Pires de Abreu
URL:https://culturasbo.com/evento/projeto-sambajuda/
LOCATION:Centro de Memórias\, R. João Lino\, 362 - Centro\, Santa Bárbara d'Oeste\, São Paulo\, 13450-033\, Brasil
CATEGORIES:Música
ATTACH;FMTTYPE=image/jpeg:https://culturasbo.com/wp-content/uploads/2024/05/FOTO-2-ATUALIZADA.jpg
END:VEVENT
BEGIN:VEVENT
DTSTART;TZID=America/Sao_Paulo:20250209T110000
DTEND;TZID=America/Sao_Paulo:20250209T220000
DTSTAMP:20260424T104415
CREATED:20250204T194504Z
LAST-MODIFIED:20250204T194639Z
UID:15057-1739098800-1739138400@culturasbo.com
SUMMARY:29ª Mostra Japão em Santa Bárbara d’Oeste - 3º dia (encerramento)
DESCRIPTION:Classificação: Livre \nEntrada: Gratuita | 1 kg de alimento não perecível \nSinopse:\nA riqueza da cultura japonesa desembarca em Santa Bárbara d’Oeste para mais uma edição da Mostra Japão. Em sua 29ª edição\, o encontro será realizado no mês que vem\, no Complexo Usina Santa Bárbara\, mediante a doação solidária de 1 kg de alimento não perecível. O evento começará na sexta-feira (7/2)\, das 18 às 22 horas\, e segue no sábado (8/2) e no domingo (9/2)\, com programação das 11 às 22 horas. \nOs visitantes poderão desfrutar de uma vasta programação cultural que inclui apresentações de taiko (os tradicionais tambores japoneses)\, danças típicas\, o encantador Shishimai (dança do leão japonês)\, além de um vibrante Concurso Cosplay. \nAlém das apresentações\, a Mostra trará o melhor da gastronomia japonesa\, com pratos como sushi\, tempurá\, yakisoba e entre outros. Também será possível adquirir produtos orientais em estandes especialmente montados para o evento. \nServiço: \n🥁 Apresentações de Taiko\n👘 Danças típicas\n👹 Shishimai – Dança do Leão Japonês\n🦸‍♀ Concurso Cosplay\n🍙 A melhor gastronomia japonesa\n🛍 Produtos orientais em estandes exclusivos \nDia 7 de fevereiro\, sexta-feira\, das 18h às 22h\nDias 8 e 9 de fevereiro\, das 11h às 22h
URL:https://culturasbo.com/evento/29a-mostra-japao-em-santa-barbara-doeste-clone-3/
LOCATION:Complexo Usina Santa Bárbara\, Rua Aristeo Carlos Pereira\, Santa Bárbara d'Oeste\, São Paulo\, Brasil
CATEGORIES:Apresentação Artística,Dança,Exposição,Feira
ATTACH;FMTTYPE=image/jpeg:https://culturasbo.com/wp-content/uploads/2024/03/2e3893159cb10c299e79751f2611d7d2.jpg
END:VEVENT
BEGIN:VEVENT
DTSTART;TZID=America/Sao_Paulo:20250209T190000
DTEND;TZID=America/Sao_Paulo:20250209T220000
DTSTAMP:20260424T104415
CREATED:20250123T163404Z
LAST-MODIFIED:20250123T163404Z
UID:14992-1739127600-1739138400@culturasbo.com
SUMMARY:Oficina / Via Crucis
DESCRIPTION:Classificação: Livre \nAs oficinas/ensaios estão acontecendo em dias específicos da semana. \nMais informações no site: culturasbo.com/espetaculoviacrucis \n 
URL:https://culturasbo.com/evento/oficina-via-crucis-9/
LOCATION:Teatro Municipal Manoel Lyra\, Rua João XXIII\, 61 - Centro\, Santa Bárbara d'Oeste\, SP\, 13450-040\, Brasil
CATEGORIES:Teatro,Workshop
END:VEVENT
END:VCALENDAR