BEGIN:VCALENDAR
VERSION:2.0
PRODID:-//Secretaria Municipal de Cultura e Turismo - ECPv6.15.13//NONSGML v1.0//EN
CALSCALE:GREGORIAN
METHOD:PUBLISH
X-ORIGINAL-URL:https://culturasbo.com
X-WR-CALDESC:Eventos para Secretaria Municipal de Cultura e Turismo
REFRESH-INTERVAL;VALUE=DURATION:PT1H
X-Robots-Tag:noindex
X-PUBLISHED-TTL:PT1H
BEGIN:VTIMEZONE
TZID:America/Sao_Paulo
BEGIN:STANDARD
TZOFFSETFROM:-0300
TZOFFSETTO:-0300
TZNAME:-03
DTSTART:20240101T000000
END:STANDARD
END:VTIMEZONE
BEGIN:VEVENT
DTSTART;TZID=America/Sao_Paulo:20250213T200000
DTEND;TZID=America/Sao_Paulo:20250213T200000
DTSTAMP:20260424T104435
CREATED:20250123T171202Z
LAST-MODIFIED:20250123T171235Z
UID:15006-1739476800-1739476800@culturasbo.com
SUMMARY:Lançamento Média Metragem – “Todos por Um”
DESCRIPTION:Retirada de Ingressos 1h Antes Com Doação de Produtos de Higiene por Ingresso
URL:https://culturasbo.com/evento/lancamento-media-metragem-todos-por-um/
LOCATION:Anfiteatro Municipal Detinha Dagnoni\, Av. Monte Castelo\, nº 1000 - Jd. Primavera\, Santa Bárbara d'Oetse\, SP\, 13450-032\, Brasil
CATEGORIES:Audiovisual
END:VEVENT
END:VCALENDAR