BEGIN:VCALENDAR
VERSION:2.0
PRODID:-//Secretaria Municipal de Cultura e Turismo - ECPv6.15.13//NONSGML v1.0//EN
CALSCALE:GREGORIAN
METHOD:PUBLISH
X-WR-CALNAME:Secretaria Municipal de Cultura e Turismo
X-ORIGINAL-URL:https://culturasbo.com
X-WR-CALDESC:Eventos para Secretaria Municipal de Cultura e Turismo
REFRESH-INTERVAL;VALUE=DURATION:PT1H
X-Robots-Tag:noindex
X-PUBLISHED-TTL:PT1H
BEGIN:VTIMEZONE
TZID:America/Sao_Paulo
BEGIN:STANDARD
TZOFFSETFROM:-0300
TZOFFSETTO:-0300
TZNAME:-03
DTSTART:20240101T000000
END:STANDARD
END:VTIMEZONE
BEGIN:VEVENT
DTSTART;TZID=America/Sao_Paulo:20250219T190000
DTEND;TZID=America/Sao_Paulo:20250219T220000
DTSTAMP:20260424T104416
CREATED:20250123T173755Z
LAST-MODIFIED:20250123T173833Z
UID:15012-1739991600-1740002400@culturasbo.com
SUMMARY:Oficina / Via Crucis
DESCRIPTION:Classificação: Livre \nAs oficinas/ensaios estão acontecendo em dias específicos da semana. \nMais informações no site: culturasbo.com/espetaculoviacrucis
URL:https://culturasbo.com/evento/oficina-via-crucis-13/
LOCATION:Teatro Municipal Manoel Lyra\, Rua João XXIII\, 61 - Centro\, Santa Bárbara d'Oeste\, SP\, 13450-040\, Brasil
CATEGORIES:Teatro,Workshop
END:VEVENT
END:VCALENDAR