BEGIN:VCALENDAR
VERSION:2.0
PRODID:-//Secretaria Municipal de Cultura e Turismo - ECPv6.15.13//NONSGML v1.0//EN
CALSCALE:GREGORIAN
METHOD:PUBLISH
X-WR-CALNAME:Secretaria Municipal de Cultura e Turismo
X-ORIGINAL-URL:https://culturasbo.com
X-WR-CALDESC:Eventos para Secretaria Municipal de Cultura e Turismo
REFRESH-INTERVAL;VALUE=DURATION:PT1H
X-Robots-Tag:noindex
X-PUBLISHED-TTL:PT1H
BEGIN:VTIMEZONE
TZID:America/Sao_Paulo
BEGIN:STANDARD
TZOFFSETFROM:-0300
TZOFFSETTO:-0300
TZNAME:-03
DTSTART:20240101T000000
END:STANDARD
END:VTIMEZONE
BEGIN:VEVENT
DTSTART;TZID=America/Sao_Paulo:20250221T180000
DTEND;TZID=America/Sao_Paulo:20250221T210000
DTSTAMP:20260424T104417
CREATED:20250204T195435Z
LAST-MODIFIED:20250204T203416Z
UID:15065-1740160800-1740171600@culturasbo.com
SUMMARY:Lançamento do Livro “Páginas Compartilhadas"
DESCRIPTION:Entrada: Gratuita \nClassificação: Livre \nSinopse:\nEm busca de propósito? “Páginas Compartilhadas” é um convite para uma jornada transformadora. Sete autores uniram suas vozes e experiências para nos levar a refletir sobre o autoconhecimento\, o desapego e o poder da conexão coletiva.\nUma leitura profunda que vai além do individualismo e nos conecta ao todo. 🤍✨
URL:https://culturasbo.com/evento/lancamento-do-livro-paginas-compartilhadas/
LOCATION:Centro de Memórias\, R. João Lino\, 362 - Centro\, Santa Bárbara d'Oeste\, São Paulo\, 13450-033\, Brasil
CATEGORIES:Evento
END:VEVENT
BEGIN:VEVENT
DTSTART;TZID=America/Sao_Paulo:20250221T190000
DTEND;TZID=America/Sao_Paulo:20250221T220000
DTSTAMP:20260424T104417
CREATED:20250204T195221Z
LAST-MODIFIED:20250204T195221Z
UID:15063-1740164400-1740175200@culturasbo.com
SUMMARY:Oficina / Via Crucis
DESCRIPTION:Classificação: Livre \nAs oficinas/ensaios estão acontecendo em dias específicos da semana. \nMais informações no site: culturasbo.com/espetaculoviacrucis
URL:https://culturasbo.com/evento/oficina-via-crucis-21/
LOCATION:Teatro Municipal Manoel Lyra\, Rua João XXIII\, 61 - Centro\, Santa Bárbara d'Oeste\, SP\, 13450-040\, Brasil
CATEGORIES:Teatro,Workshop
END:VEVENT
BEGIN:VEVENT
DTSTART;TZID=America/Sao_Paulo:20250221T190000
DTEND;TZID=America/Sao_Paulo:20250221T220000
DTSTAMP:20260424T104417
CREATED:20250204T195835Z
LAST-MODIFIED:20250204T195835Z
UID:15069-1740164400-1740175200@culturasbo.com
SUMMARY:Oficina / Via Crucis
DESCRIPTION:Classificação: Livre \nAs oficinas/ensaios estão acontecendo em dias específicos da semana. \nMais informações no site: culturasbo.com/espetaculoviacrucis
URL:https://culturasbo.com/evento/oficina-via-crucis-23-02/
LOCATION:Teatro Municipal Manoel Lyra\, Rua João XXIII\, 61 - Centro\, Santa Bárbara d'Oeste\, SP\, 13450-040\, Brasil
CATEGORIES:Teatro,Workshop
END:VEVENT
END:VCALENDAR