BEGIN:VCALENDAR
VERSION:2.0
PRODID:-//Secretaria Municipal de Cultura e Turismo - ECPv6.15.13//NONSGML v1.0//EN
CALSCALE:GREGORIAN
METHOD:PUBLISH
X-WR-CALNAME:Secretaria Municipal de Cultura e Turismo
X-ORIGINAL-URL:https://culturasbo.com
X-WR-CALDESC:Eventos para Secretaria Municipal de Cultura e Turismo
REFRESH-INTERVAL;VALUE=DURATION:PT1H
X-Robots-Tag:noindex
X-PUBLISHED-TTL:PT1H
BEGIN:VTIMEZONE
TZID:America/Sao_Paulo
BEGIN:STANDARD
TZOFFSETFROM:-0300
TZOFFSETTO:-0300
TZNAME:-03
DTSTART:20240101T000000
END:STANDARD
END:VTIMEZONE
BEGIN:VEVENT
DTSTART;TZID=America/Sao_Paulo:20250325T193000
DTEND;TZID=America/Sao_Paulo:20250326T213000
DTSTAMP:20260424T090804
CREATED:20250312T151100Z
LAST-MODIFIED:20250312T160046Z
UID:15215-1742931000-1743024600@culturasbo.com
SUMMARY:Curta-Metragem de Baixo Custo - Recoleta Produções
DESCRIPTION:Dis 25 e 26: Das 19h30 às 21h30 \nClassificação: A partir dos 16 anos (oficina) \nEntrada: Gratuita \nInforamções: (19) 3458-5868
URL:https://culturasbo.com/evento/curta-metragem-de-baixo-custo-recoleta-producoes/
LOCATION:CEU das Artes\, R. Argeu Egídio dos Santos\, 100 - Planalto do Sol II\, Santa Bárbara d'Oeste\, São Paulo\, Brasil
CATEGORIES:Audiovisual,Evento,Reunião,Workshop
END:VEVENT
END:VCALENDAR