BEGIN:VCALENDAR
VERSION:2.0
PRODID:-//Secretaria Municipal de Cultura e Turismo - ECPv6.15.13//NONSGML v1.0//EN
CALSCALE:GREGORIAN
METHOD:PUBLISH
X-WR-CALNAME:Secretaria Municipal de Cultura e Turismo
X-ORIGINAL-URL:https://culturasbo.com
X-WR-CALDESC:Eventos para Secretaria Municipal de Cultura e Turismo
REFRESH-INTERVAL;VALUE=DURATION:PT1H
X-Robots-Tag:noindex
X-PUBLISHED-TTL:PT1H
BEGIN:VTIMEZONE
TZID:America/Sao_Paulo
BEGIN:STANDARD
TZOFFSETFROM:-0300
TZOFFSETTO:-0300
TZNAME:-03
DTSTART:20240101T000000
END:STANDARD
END:VTIMEZONE
BEGIN:VEVENT
DTSTART;TZID=America/Sao_Paulo:20250327T190000
DTEND;TZID=America/Sao_Paulo:20250327T190000
DTSTAMP:20260424T090112
CREATED:20250320T110556Z
LAST-MODIFIED:20250320T120452Z
UID:15292-1743102000-1743102000@culturasbo.com
SUMMARY:Controvérsia Confederada - Motta Produções
DESCRIPTION:Classificação: Livre \nEntrada: Gratuita \nInformações: (19) 99334-6146 / (19) 34649424 \nSinopse: O documentário mergulha em uma investigação e manifesto sobre a controvérsia confederada\, explorando suas raízes históricas e os impactos culturais no território de Santa Bárbara D’Oeste e região. Através de pesquisas\, depoimentos e uma abordagem crítica\, a produção convida o espectador a refletir sobre memória\, identidade e as narrativas que moldam a história. Um olhar instigante sobre como o passado é contado\, disputado e reinterpretado ao longo do tempo. Evidenciando uma luta de resistência na cidade! 
URL:https://culturasbo.com/evento/controversia-confederada-motta-producoes/
LOCATION:Anfiteatro Municipal Detinha Dagnoni\, Av. Monte Castelo\, nº 1000 - Jd. Primavera\, Santa Bárbara d'Oetse\, SP\, 13450-032\, Brasil
CATEGORIES:Audiovisual,Documentário
END:VEVENT
BEGIN:VEVENT
DTSTART;TZID=America/Sao_Paulo:20250327T190000
DTEND;TZID=America/Sao_Paulo:20250327T220000
DTSTAMP:20260424T090112
CREATED:20250312T151654Z
LAST-MODIFIED:20250312T151654Z
UID:15222-1743102000-1743112800@culturasbo.com
SUMMARY:Cineclube Tramas
DESCRIPTION:Classificação: Livre \nEntrada: Gratuita \nInforamções: (19) 3455-7000
URL:https://culturasbo.com/evento/cineclube-tramas/
LOCATION:Centro de Memórias\, R. João Lino\, 362 - Centro\, Santa Bárbara d'Oeste\, São Paulo\, 13450-033\, Brasil
CATEGORIES:Audiovisual
END:VEVENT
BEGIN:VEVENT
DTSTART;TZID=America/Sao_Paulo:20250327T193000
DTEND;TZID=America/Sao_Paulo:20250327T193000
DTSTAMP:20260424T090112
CREATED:20250312T151453Z
LAST-MODIFIED:20250312T151453Z
UID:15220-1743103800-1743103800@culturasbo.com
SUMMARY:Hipometropia - Recoleta Produções
DESCRIPTION:Classificação: Livre \nEntrada: Gratuita \nInforamções: (19) 3458-5868
URL:https://culturasbo.com/evento/hipometropia-recoleta-producoes/
LOCATION:CEU das Artes\, R. Argeu Egídio dos Santos\, 100 - Planalto do Sol II\, Santa Bárbara d'Oeste\, São Paulo\, Brasil
CATEGORIES:Audiovisual
END:VEVENT
BEGIN:VEVENT
DTSTART;TZID=America/Sao_Paulo:20250327T200000
DTEND;TZID=America/Sao_Paulo:20250327T200000
DTSTAMP:20260424T090112
CREATED:20250311T115639Z
LAST-MODIFIED:20250311T122232Z
UID:15166-1743105600-1743105600@culturasbo.com
SUMMARY:Gal & Gil - Manda Moraes & Grupo - Festival Pop Arte
DESCRIPTION:Classificação: Livre \nEntrada: R$ 10\,00 (inteira) e R$ 5\,00 (meia/antecipado) \nIngressos no site (www.ingressodigital.com) ou bilheteria do teatro \nInformações: (19) 3464-9424
URL:https://culturasbo.com/evento/gal-gil-manda-moraes-grupo-festival-pop-arte/
LOCATION:Teatro Municipal Manoel Lyra\, Rua João XXIII\, 61 - Centro\, Santa Bárbara d'Oeste\, SP\, 13450-040\, Brasil
CATEGORIES:Apresentação Artística,Música
ATTACH;FMTTYPE=image/jpeg:https://culturasbo.com/wp-content/uploads/2025/03/Gal-e-Gil.jpg
END:VEVENT
END:VCALENDAR