BEGIN:VCALENDAR
VERSION:2.0
PRODID:-//Secretaria Municipal de Cultura e Turismo - ECPv6.15.13//NONSGML v1.0//EN
CALSCALE:GREGORIAN
METHOD:PUBLISH
X-ORIGINAL-URL:https://culturasbo.com
X-WR-CALDESC:Eventos para Secretaria Municipal de Cultura e Turismo
REFRESH-INTERVAL;VALUE=DURATION:PT1H
X-Robots-Tag:noindex
X-PUBLISHED-TTL:PT1H
BEGIN:VTIMEZONE
TZID:America/Sao_Paulo
BEGIN:STANDARD
TZOFFSETFROM:-0300
TZOFFSETTO:-0300
TZNAME:-03
DTSTART:20240101T000000
END:STANDARD
END:VTIMEZONE
BEGIN:VEVENT
DTSTART;TZID=America/Sao_Paulo:20250401T090000
DTEND;TZID=America/Sao_Paulo:20250513T130000
DTSTAMP:20260424T071507
CREATED:20250331T164456Z
LAST-MODIFIED:20250331T164456Z
UID:15355-1743498000-1747141200@culturasbo.com
SUMMARY:Feira de Artesanato
DESCRIPTION:Data: Dia 01\, 02\, 03\, 04\, 05\, 07\, 08\, 09\, 10\, 11 e 12 \nSegunda à sexta: 9h às 16h \nSábado: 9h às 13h \nClassificação: Livre \nEntrada: Gratuita
URL:https://culturasbo.com/evento/feira-de-artesanato-2/
LOCATION:Praça Central\, Vila Macnight\, Santa Bárbara d'Oeste\, SP\, 13450-013
CATEGORIES:Feira
END:VEVENT
BEGIN:VEVENT
DTSTART;TZID=America/Sao_Paulo:20250404T200000
DTEND;TZID=America/Sao_Paulo:20250404T200000
DTSTAMP:20260424T071507
CREATED:20250328T135724Z
LAST-MODIFIED:20250328T135816Z
UID:15319-1743796800-1743796800@culturasbo.com
SUMMARY:Concertos Pela Natureza - Filarmônica Jovens Músicos convida Jane Duboc
DESCRIPTION:Classificação: Livre \nEntrada: Gratuita \nReservas no site: https://www.sympla.com.br/evento/concertos-pela-natureza-filarmonica-jovens-musicos-convida-jane-duboc/2876202?referrer=academiajovensmusicos.org.br \nInformações: (19) 99297-6560 / (19) 3464-9424 \n  \nSinopse: A Academia Jovens Músicos\, em comemoração aos seus 15 anos\, convida o público para o espetáculo musical Concertos pela Natureza – Filarmônica Jovens Músicos convida Jane Duboc\, que une música e sustentabilidade. Com a regência do maestro Anderson de Oliveira\, e participação especial de Sandro Bacelar\, o concerto acontecerá no dia 4 de abril\, às 20 horas\, no Teatro Municipal Manoel Lyra\, em Santa Bárbara dOeste (SP)\, com entrada gratuita.\nAlém das performances emocionantes da Filarmônica Jovens Músicos e de Jane Duboc\, o público será convidado a uma reflexão sobre sustentabilidade: ao longo do concerto\, vídeos sobre o meio ambiente serão exibidos\, ressaltando os desafios das mudanças climáticas\, os eventos extremos que acontecem no Brasil e no mundo e a importância de agir em prol do planeta.\nO concerto faz parte do projeto Jovens Músicos em Concertos pela Natureza\, que busca sensibilizar a sociedade sobre a preservação ambiental por meio da arte e reafirma o compromisso da Academia com a educação ambiental e as diretrizes ESG\, inspirando o público a agir em prol da sustentabilidade.\nVenha viver essa experiência única e emocionante!
URL:https://culturasbo.com/evento/concertos-pela-natureza-filarmonica-jovens-musicos-convida-jane-duboc/
LOCATION:Teatro Municipal Manoel Lyra\, Rua João XXIII\, 61 - Centro\, Santa Bárbara d'Oeste\, SP\, 13450-040\, Brasil
CATEGORIES:Música
ATTACH;FMTTYPE=image/jpeg:https://culturasbo.com/wp-content/uploads/2025/03/foto.jpg
END:VEVENT
END:VCALENDAR