BEGIN:VCALENDAR
VERSION:2.0
PRODID:-//Secretaria Municipal de Cultura e Turismo - ECPv6.15.13//NONSGML v1.0//EN
CALSCALE:GREGORIAN
METHOD:PUBLISH
X-WR-CALNAME:Secretaria Municipal de Cultura e Turismo
X-ORIGINAL-URL:https://culturasbo.com
X-WR-CALDESC:Eventos para Secretaria Municipal de Cultura e Turismo
REFRESH-INTERVAL;VALUE=DURATION:PT1H
X-Robots-Tag:noindex
X-PUBLISHED-TTL:PT1H
BEGIN:VTIMEZONE
TZID:America/Sao_Paulo
BEGIN:STANDARD
TZOFFSETFROM:-0300
TZOFFSETTO:-0300
TZNAME:-03
DTSTART:20240101T000000
END:STANDARD
END:VTIMEZONE
BEGIN:VEVENT
DTSTART;TZID=America/Sao_Paulo:20250415T180000
DTEND;TZID=America/Sao_Paulo:20250603T200000
DTSTAMP:20260424T053401
CREATED:20250331T163531Z
LAST-MODIFIED:20250331T163531Z
UID:15347-1744740000-1748980800@culturasbo.com
SUMMARY:Oficina - Produção Cartoneira: da Escrita à Produção Independente - Douglas Fonseca
DESCRIPTION:Classificação: Livre \nEntrada: Gratuita \nInforamções: (19) 3458-5868
URL:https://culturasbo.com/evento/oficina-producao-cartoneira-da-escrita-a-producao-independente-douglas-fonseca/
LOCATION:CEU das Artes\, R. Argeu Egídio dos Santos\, 100 - Planalto do Sol II\, Santa Bárbara d'Oeste\, São Paulo\, Brasil
END:VEVENT
BEGIN:VEVENT
DTSTART;TZID=America/Sao_Paulo:20250505T090000
DTEND;TZID=America/Sao_Paulo:20250520T170000
DTSTAMP:20260424T053401
CREATED:20250506T124331Z
LAST-MODIFIED:20250506T183751Z
UID:15578-1746435600-1747760400@culturasbo.com
SUMMARY:Exposição: "O silêncio que grita"
DESCRIPTION:Classificação: Livre \nEntrada: Gratuita \nHorário: 9h às 12h e 13h às 17h \nSinopse:\nDe 05 a 20 de maio\, a mostra traz painéis que fazem o registro de pessoas e do cotidiano da Villa de Santa Bárbara no século XIX\, que visam incluir a perspectiva das populações que\, até o momento\, estão invisibilizadas pela historiografia local de Santa Bárbara d’Oeste.
URL:https://culturasbo.com/evento/exposicao-o-silencio-que-grita/
LOCATION:Centro Cultural e Biblioteca “Prof° Léo Assad Sallum”\, Rua: do Algodão\, 1450 - Cidade Nova\, Santa Bárbara d'Oeste\, SP\, 13454-170\, Brasil
CATEGORIES:Exposição
ATTACH;FMTTYPE=image/jpeg:https://culturasbo.com/wp-content/uploads/2025/05/exposicao-leo-sallum-scaled.jpeg
END:VEVENT
BEGIN:VEVENT
DTSTART;TZID=America/Sao_Paulo:20250518T120000
DTEND;TZID=America/Sao_Paulo:20250518T170000
DTSTAMP:20260424T053401
CREATED:20250506T112429Z
LAST-MODIFIED:20250506T113055Z
UID:15545-1747569600-1747587600@culturasbo.com
SUMMARY:Samb’Ajuda – Roda de Samba
DESCRIPTION:Classificação: Livre \nEntrada: Gratuita (mediante doação de alimento ou leite) \nInformações: (19) 3455-5082
URL:https://culturasbo.com/evento/sambajuda-roda-de-samba-2/
LOCATION:Museu da Imigração\, R. João Lino\, 371 - Centro\, Santa Bárbara d'Oeste\, SP\, 13450-001\, Brasil
ATTACH;FMTTYPE=image/jpeg:https://culturasbo.com/wp-content/uploads/2025/05/DSC_4389-scaled.jpg
END:VEVENT
BEGIN:VEVENT
DTSTART;TZID=America/Sao_Paulo:20250518T120000
DTEND;TZID=America/Sao_Paulo:20250518T180000
DTSTAMP:20260424T053401
CREATED:20250506T122918Z
LAST-MODIFIED:20250506T122918Z
UID:15564-1747569600-1747591200@culturasbo.com
SUMMARY:Samba de Madureira
DESCRIPTION:Classificação: Livre \nEntrada: Gratuita \nInformações: (19) 3458-5868
URL:https://culturasbo.com/evento/samba-de-madureira-3/
LOCATION:CEU das Artes\, R. Argeu Egídio dos Santos\, 100 - Planalto do Sol II\, Santa Bárbara d'Oeste\, São Paulo\, Brasil
CATEGORIES:Apresentação Artística,Dança,Música,Show
END:VEVENT
END:VCALENDAR