BEGIN:VCALENDAR
VERSION:2.0
PRODID:-//Secretaria Municipal de Cultura e Turismo - ECPv6.15.13//NONSGML v1.0//EN
CALSCALE:GREGORIAN
METHOD:PUBLISH
X-WR-CALNAME:Secretaria Municipal de Cultura e Turismo
X-ORIGINAL-URL:https://culturasbo.com
X-WR-CALDESC:Eventos para Secretaria Municipal de Cultura e Turismo
REFRESH-INTERVAL;VALUE=DURATION:PT1H
X-Robots-Tag:noindex
X-PUBLISHED-TTL:PT1H
BEGIN:VTIMEZONE
TZID:America/Sao_Paulo
BEGIN:STANDARD
TZOFFSETFROM:-0300
TZOFFSETTO:-0300
TZNAME:-03
DTSTART:20240101T000000
END:STANDARD
END:VTIMEZONE
BEGIN:VEVENT
DTSTART;TZID=America/Sao_Paulo:20250415T180000
DTEND;TZID=America/Sao_Paulo:20250603T200000
DTSTAMP:20260424T053401
CREATED:20250331T163531Z
LAST-MODIFIED:20250331T163531Z
UID:15347-1744740000-1748980800@culturasbo.com
SUMMARY:Oficina - Produção Cartoneira: da Escrita à Produção Independente - Douglas Fonseca
DESCRIPTION:Classificação: Livre \nEntrada: Gratuita \nInforamções: (19) 3458-5868
URL:https://culturasbo.com/evento/oficina-producao-cartoneira-da-escrita-a-producao-independente-douglas-fonseca/
LOCATION:CEU das Artes\, R. Argeu Egídio dos Santos\, 100 - Planalto do Sol II\, Santa Bárbara d'Oeste\, São Paulo\, Brasil
END:VEVENT
BEGIN:VEVENT
DTSTART;TZID=America/Sao_Paulo:20250524T083000
DTEND;TZID=America/Sao_Paulo:20250524T170000
DTSTAMP:20260424T053401
CREATED:20250506T123125Z
LAST-MODIFIED:20250506T123125Z
UID:15566-1748075400-1748106000@culturasbo.com
SUMMARY:Encontro de Câmaras Setoriais
DESCRIPTION:
URL:https://culturasbo.com/evento/encontro-de-camaras-setoriais/
LOCATION:CEU das Artes -“Ariovaldo Inácio – ‘Vardão’”\, Rua: Argeu Egídio dos Santos\, 100 - Planalto do Sol II\, Santa Bárbara d'Oeste\, SP\, 13453-842\, Brasil
CATEGORIES:Reunião
END:VEVENT
BEGIN:VEVENT
DTSTART;TZID=America/Sao_Paulo:20250524T133000
DTEND;TZID=America/Sao_Paulo:20250524T180000
DTSTAMP:20260424T053401
CREATED:20250506T113753Z
LAST-MODIFIED:20250506T113753Z
UID:15548-1748093400-1748109600@culturasbo.com
SUMMARY:Mulheres Conectadas pela Arte
DESCRIPTION:Clique aqui para Inscrição para Mulheres Conectadas pela Arte. \nO projeto visa não apenas oferecer capacitação técnica e empreendedora\, mas também promover o bem-estar físico e emocional das participantes. A programação inclui workshops\, palestras inspiradoras\, yoga\, ginástica laboral e rodas de conversa com foco em saúde mental e autoestima. \nO projeto “Mulheres Conectadas pela Arte” é realizado com recurso da Lei de incentivo PNAB (Política Nacional Aldir Blanc)\, por meio do Ministério da Cultura\, Governo Federal e Prefeitura de Santa Bárbara d’ Oeste\, por meio da Secretaria Municipal de Cultura e Turismo\, com patrocínio da Estilotex e Ateliê Lilica Artes e apoio da Feltros Santa Fé\, Tekbond Artesanato e Fitas Gitex.
URL:https://culturasbo.com/evento/mulheres-conectadas-pela-arte/
LOCATION:Centro de Memórias\, R. João Lino\, 362 - Centro\, Santa Bárbara d'Oeste\, São Paulo\, 13450-033\, Brasil
ATTACH;FMTTYPE=image/jpeg:https://culturasbo.com/wp-content/uploads/2025/05/2357c1eb074396d6d6f393be70311664.jpg
END:VEVENT
BEGIN:VEVENT
DTSTART;TZID=America/Sao_Paulo:20250524T190000
DTEND;TZID=America/Sao_Paulo:20250524T190000
DTSTAMP:20260424T053401
CREATED:20250512T154559Z
LAST-MODIFIED:20250512T165427Z
UID:15630-1748113200-1748113200@culturasbo.com
SUMMARY:Documentário - Passos de Vida: Uma Escola de Dança - Laboratório da Dança Fernanda Araujo
DESCRIPTION:Classificação: Livre \nEntrada: Gratuita (Os ingressos podem ser retirados antecipadamente na secretaria do Laboratório da Dança Fernanda Araújo) \nInformações: (19) 92003-8133 \nDocumentário acessível em libras \n  \nSinopse: Passos de Vida: 25 anos da Escola que Dança é um documentário que percorre os caminhos trilhados por uma escola que\, há um quarto de século\, pulsa no coração de Santa Bárbara d’Oeste. Nascida do legado de uma pioneira — fundadora da primeira escola de dança da cidade — e hoje conduzida por sua filha\, essa história atravessa gerações\, tecendo sonhos com os fios da tradição\, da arte e do afeto.  \nMais do que um espaço de ensino\, a escola é um lar de encontros e transformações. O documentário mergulha nas vivências de alunos\, professores e colaboradores\, revelando como a dança se entrelaça às suas jornadas\, dando forma a conquistas\, superações e laços profundos. Entre festivais\, projetos sociais e movimentos solidários\, emerge uma comunidade onde cada passo ecoa pertencimento. \nRealizado pelo Laboratório da Dança Fernanda Araújo\, o projeto conta com recursos da Lei Paulo Gustavo\, por meio do Ministério da Cultura\, Governo Federal\, Secretaria Municipal de Cultura e Turismo\, e Prefeitura Municipal de Santa Bárbara d’Oeste. \n  \nFicha técnica: \nDireção Geral e Artística: Fernanda Araújo \nPesquisa e Curadoria: Fernanda Araújo \nProdução e Comunicação Visual: Thaís Godoy \nSonoplastia: Helena Macchi \nProfessores e Equipe:  \nAna Laura Bagarolo \nCintia Nogueira \nFernanda Araújo \nHelena Macchi \nMichele Bueno \nThaís Godoy \nCinegrafista | Edição de Audiovisual: Imaginario Filmes \nTradução em Libras: Victor Pascoalini
URL:https://culturasbo.com/evento/documentario-passos-de-vida-uma-escola-de-danca-laboratorio-da-danca-fernanda-araujo/
LOCATION:Anfiteatro Municipal Detinha Dagnoni\, Av. Monte Castelo\, nº 1000 - Jd. Primavera\, Santa Bárbara d'Oetse\, SP\, 13450-032\, Brasil
CATEGORIES:Audiovisual,Documentário
ATTACH;FMTTYPE=image/jpeg:https://culturasbo.com/wp-content/uploads/2025/05/Fotografia_Divulgacao2-1.jpg
END:VEVENT
BEGIN:VEVENT
DTSTART;TZID=America/Sao_Paulo:20250524T193000
DTEND;TZID=America/Sao_Paulo:20250524T193000
DTSTAMP:20260424T053401
CREATED:20250428T144132Z
LAST-MODIFIED:20250430T114257Z
UID:15471-1748115000-1748115000@culturasbo.com
SUMMARY:4° Edição Gala - Festival de Dança - Cia Dança e Teatro JK
DESCRIPTION:Classificação: Livre \nEntrada: R$ 90\,00 (inteira)\, R$ 45\,00 (meia/antecipado) \nIngressos no site: www.entravip.com.br \nInformações: (19) 99248-5656 / 19 3464-9424 \nSinopse: A nossa 4ª Gala é um Festival de Dança que pretende encerrar o semestre com elegância e muita dança\, proporcionando aos nossos alunos e alunas o prazer de vivenciar a experiência única de estar no palco. A noite será abrilhantada por coreografias dos nossos grupos competitivos\, assim como das turmas regulares de todas as modalidades\, todas especialmente preparadas para esta ocasião especial.
URL:https://culturasbo.com/evento/4-edicao-gala-festival-de-danca-cia-danca-e-teatro-jk/
LOCATION:Teatro Municipal Manoel Lyra\, Rua João XXIII\, 61 - Centro\, Santa Bárbara d'Oeste\, SP\, 13450-040\, Brasil
CATEGORIES:Apresentação Artística,Dança
ATTACH;FMTTYPE=image/jpeg:https://culturasbo.com/wp-content/uploads/2025/04/FOTO-1.jpg
END:VEVENT
END:VCALENDAR