BEGIN:VCALENDAR
VERSION:2.0
PRODID:-//Secretaria Municipal de Cultura e Turismo - ECPv6.15.13//NONSGML v1.0//EN
CALSCALE:GREGORIAN
METHOD:PUBLISH
X-WR-CALNAME:Secretaria Municipal de Cultura e Turismo
X-ORIGINAL-URL:https://culturasbo.com
X-WR-CALDESC:Eventos para Secretaria Municipal de Cultura e Turismo
REFRESH-INTERVAL;VALUE=DURATION:PT1H
X-Robots-Tag:noindex
X-PUBLISHED-TTL:PT1H
BEGIN:VTIMEZONE
TZID:America/Sao_Paulo
BEGIN:STANDARD
TZOFFSETFROM:-0300
TZOFFSETTO:-0300
TZNAME:-03
DTSTART:20240101T000000
END:STANDARD
END:VTIMEZONE
BEGIN:VEVENT
DTSTART;TZID=America/Sao_Paulo:20250621T160000
DTEND;TZID=America/Sao_Paulo:20250621T223000
DTSTAMP:20260424T035214
CREATED:20250603T124313Z
LAST-MODIFIED:20250603T141633Z
UID:15862-1750521600-1750545000@culturasbo.com
SUMMARY:2° Arraiá do Traquitana - Festa Junina
DESCRIPTION:Classificação: Livre \nEntrada: Gratuita \nInformações: (19) 3455-7000 \n  \nSinopse: O evento terá música ao vivo com Pedro Huggo\,quadrilha inclusiva com a ONG Pernas de alegria; Food Trucks e Barracas de comidas típicas; Feira d Artesanato. \nPonto de arrecadação da Campanha do Agasalho \nParticipação especial da AMAI-SBO com a área recreativa para crianças. \n 
URL:https://culturasbo.com/evento/2-arraia-do-traquitana-festa-junina-clone/
LOCATION:Museu da Imigração\, R. João Lino\, 371 - Centro\, Santa Bárbara d'Oeste\, SP\, 13450-001\, Brasil
CATEGORIES:Evento
ATTACH;FMTTYPE=image/jpeg:https://culturasbo.com/wp-content/uploads/2024/04/foto-2-atualizada.jpg
END:VEVENT
END:VCALENDAR