BEGIN:VCALENDAR
VERSION:2.0
PRODID:-//Secretaria Municipal de Cultura e Turismo - ECPv6.15.13//NONSGML v1.0//EN
CALSCALE:GREGORIAN
METHOD:PUBLISH
X-WR-CALNAME:Secretaria Municipal de Cultura e Turismo
X-ORIGINAL-URL:https://culturasbo.com
X-WR-CALDESC:Eventos para Secretaria Municipal de Cultura e Turismo
REFRESH-INTERVAL;VALUE=DURATION:PT1H
X-Robots-Tag:noindex
X-PUBLISHED-TTL:PT1H
BEGIN:VTIMEZONE
TZID:America/Sao_Paulo
BEGIN:STANDARD
TZOFFSETFROM:-0300
TZOFFSETTO:-0300
TZNAME:-03
DTSTART:20240101T000000
END:STANDARD
END:VTIMEZONE
BEGIN:VEVENT
DTSTART;TZID=America/Sao_Paulo:20250901T090000
DTEND;TZID=America/Sao_Paulo:20250922T170000
DTSTAMP:20260423T224010
CREATED:20250901T150933Z
LAST-MODIFIED:20250901T150933Z
UID:16135-1756717200-1758560400@culturasbo.com
SUMMARY:Descida aos Infernos
DESCRIPTION:Horários: 9h às 12h | 13h às 17h \nClassificação: Livre \nEntrada: Gratuita \nInformações: (19) 3458-5868
URL:https://culturasbo.com/evento/descida-aos-infernos/
LOCATION:CEU das Artes\, R. Argeu Egídio dos Santos\, 100 - Planalto do Sol II\, Santa Bárbara d'Oeste\, São Paulo\, Brasil
CATEGORIES:Exposição
END:VEVENT
BEGIN:VEVENT
DTSTART;TZID=America/Sao_Paulo:20250920T080000
DTEND;TZID=America/Sao_Paulo:20250920T220000
DTSTAMP:20260423T224010
CREATED:20250902T114317Z
LAST-MODIFIED:20250902T114317Z
UID:16166-1758355200-1758405600@culturasbo.com
SUMMARY:1° Rock Beer
DESCRIPTION:Classificação: Livre \nEntrada: Gratuita \nInformações: (19) 3455-7000
URL:https://culturasbo.com/evento/1-rock-beer/
LOCATION:Centro de Memórias\, R. João Lino\, 362 - Centro\, Santa Bárbara d'Oeste\, São Paulo\, 13450-033\, Brasil
END:VEVENT
BEGIN:VEVENT
DTSTART;TZID=America/Sao_Paulo:20250920T200000
DTEND;TZID=America/Sao_Paulo:20250920T200000
DTSTAMP:20260423T224010
CREATED:20250901T162620Z
LAST-MODIFIED:20250905T122555Z
UID:16146-1758398400-1758398400@culturasbo.com
SUMMARY:A Travessia do Grão Profundo - Núcleo Caatinga da Cia Teatral Avatar - Cena Bárbara
DESCRIPTION:Classificação: 14 anos \nEntrada: Gratuita \nInformações: (19) 3458-5868
URL:https://culturasbo.com/evento/a-travessia-do-grao-profundo-cena-barbara-clone/
LOCATION:CEU das Artes\, R. Argeu Egídio dos Santos\, 100 - Planalto do Sol II\, Santa Bárbara d'Oeste\, São Paulo\, Brasil
CATEGORIES:Teatro
END:VEVENT
END:VCALENDAR