BEGIN:VCALENDAR
VERSION:2.0
PRODID:-//Secretaria Municipal de Cultura e Turismo - ECPv6.15.13//NONSGML v1.0//EN
CALSCALE:GREGORIAN
METHOD:PUBLISH
X-ORIGINAL-URL:https://culturasbo.com
X-WR-CALDESC:Eventos para Secretaria Municipal de Cultura e Turismo
REFRESH-INTERVAL;VALUE=DURATION:PT1H
X-Robots-Tag:noindex
X-PUBLISHED-TTL:PT1H
BEGIN:VTIMEZONE
TZID:America/Sao_Paulo
BEGIN:STANDARD
TZOFFSETFROM:-0300
TZOFFSETTO:-0300
TZNAME:-03
DTSTART:20240101T000000
END:STANDARD
END:VTIMEZONE
BEGIN:VEVENT
DTSTART;TZID=America/Sao_Paulo:20250930T190000
DTEND;TZID=America/Sao_Paulo:20250930T190000
DTSTAMP:20260423T211418
CREATED:20250901T121601Z
LAST-MODIFIED:20250901T122440Z
UID:16121-1759258800-1759258800@culturasbo.com
SUMMARY:Escola Renascer - Festival Artístico "Volta Ao Mundo"
DESCRIPTION:Classificação: Livre \nEvento Fechado \nInformações: (19)  3464-9424
URL:https://culturasbo.com/evento/escola-renascer-festival-artistico-volta-ao-mundo/
LOCATION:Teatro Municipal Manoel Lyra\, Rua João XXIII\, 61 - Centro\, Santa Bárbara d'Oeste\, SP\, 13450-040\, Brasil
END:VEVENT
END:VCALENDAR