BEGIN:VCALENDAR
VERSION:2.0
PRODID:-//Secretaria Municipal de Cultura e Turismo - ECPv6.15.13//NONSGML v1.0//EN
CALSCALE:GREGORIAN
METHOD:PUBLISH
X-WR-CALNAME:Secretaria Municipal de Cultura e Turismo
X-ORIGINAL-URL:https://culturasbo.com
X-WR-CALDESC:Eventos para Secretaria Municipal de Cultura e Turismo
REFRESH-INTERVAL;VALUE=DURATION:PT1H
X-Robots-Tag:noindex
X-PUBLISHED-TTL:PT1H
BEGIN:VTIMEZONE
TZID:America/Sao_Paulo
BEGIN:STANDARD
TZOFFSETFROM:-0300
TZOFFSETTO:-0300
TZNAME:-03
DTSTART:20240101T000000
END:STANDARD
END:VTIMEZONE
BEGIN:VEVENT
DTSTART;TZID=America/Sao_Paulo:20251001T090000
DTEND;TZID=America/Sao_Paulo:20251011T160000
DTSTAMP:20260423T211310
CREATED:20251001T130718Z
LAST-MODIFIED:20251001T130718Z
UID:16339-1759309200-1760198400@culturasbo.com
SUMMARY:Feira de Artesanato
DESCRIPTION:Data: Do dia 1° ao dia 11/10\, exceto dia 05/10 \nSegunda à sexta: 9h às 16h \nSábado: 9h às 13h \nClassificação: Livre \nEntrada: Gratuita
URL:https://culturasbo.com/evento/feira-de-artesanato-3/
LOCATION:Praça Central\, Vila Macnight\, Santa Bárbara d'Oeste\, SP\, 13450-013
CATEGORIES:Feira
END:VEVENT
BEGIN:VEVENT
DTSTART;TZID=America/Sao_Paulo:20251004T183000
DTEND;TZID=America/Sao_Paulo:20251004T183000
DTSTAMP:20260423T211310
CREATED:20251001T120721Z
LAST-MODIFIED:20251001T120721Z
UID:16291-1759602600-1759602600@culturasbo.com
SUMMARY:"Alf Mabrouk Festival - 3° Edição" - Apresentação de Danças Árabes
DESCRIPTION:Classificação: Livre \nEntrada: Ingressos: R$ 20\,00 (inteira) e R$ 10\,00 (meia/antecipado) \nVenda pelo Instagram: https://www.instagram.com/alfmabroukfestival/ \nInformações: (19) 99168-1043 \n  \nFICHA TÉCNICA. Mohamad Azra/ George Mouzayek/ Juliana Daniel/ e Bailarinas Convidadas. \nSINOPSE:  \nEste evento de dança do ventre com música árabe ao vivo é uma experiência imersiva\, que vai muito além de apenas assistir a uma apresentação: é um mergulho cultural. \nA presença de músicos ao vivo — tocando instrumentos tradicionais como o derbak (tambor árabe) e o teclado árabe — dá uma energia única ao espetáculo. A Bailarina\, ao invés de seguir uma música gravada e previsível\, responde aos improvisos e nuances da banda\, criando um diálogo espontâneo entre som e movimento. \nO público sente essa conexão\, porque cada batida\, pausa ou melodia influencia diretamente os gestos\, expressões e variações do ritmo. O resultado é um momento irrepetível — cada performance é única\, pois nasce da troca de energia entre músicos\, bailarina e plateia. \nAlém da arte em si\, o evento também costuma trazer o brilho dos figurinos elaborados\, a riqueza dos acessórios e a atmosfera sensorial: o som vibrante\, as cores vivas\, os movimentos fluidos\,  é uma celebração que mistura arte\, cultura e emoção\, envolvendo o espectador de forma completa — quase como se ele tivesse sido transportado para um café do Cairo ou para um casamento tradicional no Oriente Médio.
URL:https://culturasbo.com/evento/alf-mabrouk-festival-3-edicao-apresentacao-de-dancas-arabes/
LOCATION:Anfiteatro Municipal Detinha Dagnoni\, Av. Monte Castelo\, nº 1000 - Jd. Primavera\, Santa Bárbara d'Oetse\, SP\, 13450-032\, Brasil
CATEGORIES:Apresentação Artística,Dança,Música
ATTACH;FMTTYPE=image/jpeg:https://culturasbo.com/wp-content/uploads/2025/10/Black_Gold_Modern_Ramadan_Mubarak_Instagram_Post_Video.jpg
END:VEVENT
END:VCALENDAR