BEGIN:VCALENDAR
VERSION:2.0
PRODID:-//Secretaria Municipal de Cultura e Turismo - ECPv6.15.13//NONSGML v1.0//EN
CALSCALE:GREGORIAN
METHOD:PUBLISH
X-WR-CALNAME:Secretaria Municipal de Cultura e Turismo
X-ORIGINAL-URL:https://culturasbo.com
X-WR-CALDESC:Eventos para Secretaria Municipal de Cultura e Turismo
REFRESH-INTERVAL;VALUE=DURATION:PT1H
X-Robots-Tag:noindex
X-PUBLISHED-TTL:PT1H
BEGIN:VTIMEZONE
TZID:America/Sao_Paulo
BEGIN:STANDARD
TZOFFSETFROM:-0300
TZOFFSETTO:-0300
TZNAME:-03
DTSTART:20240101T000000
END:STANDARD
END:VTIMEZONE
BEGIN:VEVENT
DTSTART;TZID=America/Sao_Paulo:20251012T200000
DTEND;TZID=America/Sao_Paulo:20251012T200000
DTSTAMP:20260423T211316
CREATED:20250929T163046Z
LAST-MODIFIED:20250929T163156Z
UID:16277-1760299200-1760299200@culturasbo.com
SUMMARY:Fernando Pedrosa Xaveca a Plateia e Bebe Vinho
DESCRIPTION:Classificação: 18 anos \nEntrada: Ingressos: R$ 120 (inteira)\, R$ 60 (meia)\, R$ 95 (antecipado) e combo promoção duas pessoas: R$ 160\,00 \nSite de vendas: www.sympla.com \nInformações: (19) 98566-8727 / (19) 3464-9424 \n  \nEm seu primeiro espetáculo solo\, que tem conquistado plateias por todo o Brasil\,\nFernando Pedrosa te leva num encontro para rir e se identificar com seu humor\nafiado e acolhedor.\nCom um olhar sensível e debochado\, Fernando transforma histórias do dia a dia em\ncomédia de forma leve\, inteligente e inclusiva. Ele conduz o público por situações\nhilárias\, onde as experiências da comunidade LGBTQIAPN+ ganham espaço sem\nestereótipos\, mas com muitas risadas.\nSe você nunca se viu em um show de stand-up\, essa é a oportunidade. Fernando\nfaz do palco uma espécie de roda de amigos: um espaço seguro\, divertido e cheio\nde histórias que todo mundo tem vontade de contar (ou ouvir).\nNão perca essa chance de viver uma noite leve\, divertida e cheia de\nrepresentatividade. \nSOBRE FERNANDO PEDROSA\nFernando Pedrosa é roteirista\, humorista e um dos nomes que têm renovado a cena\ndo stand-up nacional. Paulista\, ele se destaca por aproximar o público\nLGBTQIAPN+ do universo da comédia\, criando um ambiente onde todos se sentem\nbem-vindos\, especialmente aqueles que\, por muito tempo\, se sentiram excluídos\ndesse tipo de humor.\nFormado em Rádio e TV\, Pedrosa passou anos como redator publicitário e roteirista\nde comédia para outros artistas. Mas foi no palco que encontrou seu verdadeiro\nlugar. Desde que lançou seu show solo\, seu trabalho ganhou proporções\nimpressionantes nas redes sociais\, seu Instagram cresceu 100 vezes e já alcançou\nmilhões de pessoas com seus vídeos.\nCom uma década de experiência na comédia\, Fernando combina carisma\, senso\ncrítico e afeto em algo que vai além do riso: provoca reflexão\, empatia e\, claro\,\nmuitos memes. Seu humor é interativo\, inclusivo e feito para quem quer se divertir\nsem abrir mão do respeito.\nClassificação indicativa: 18 anos. Duração: 70 minutos. \nAS REDES SOCIAIS\nINSTAGRAM: https://www.instagram.com/ofernandopedrosa\nYOUTUBE: https://www.youtube.com/@ofernandopedrosa\nRealização: www.nume.com.br
URL:https://culturasbo.com/evento/fernando-pedrosa-xaveca-a-plateia-e-bebe-vinho/
LOCATION:Teatro Municipal Manoel Lyra\, Rua João XXIII\, 61 - Centro\, Santa Bárbara d'Oeste\, SP\, 13450-040\, Brasil
CATEGORIES:Stand Up
ATTACH;FMTTYPE=image/jpeg:https://culturasbo.com/wp-content/uploads/2025/09/FOTO2.jpg
END:VEVENT
END:VCALENDAR