BEGIN:VCALENDAR
VERSION:2.0
PRODID:-//Secretaria Municipal de Cultura e Turismo - ECPv6.15.13//NONSGML v1.0//EN
CALSCALE:GREGORIAN
METHOD:PUBLISH
X-WR-CALNAME:Secretaria Municipal de Cultura e Turismo
X-ORIGINAL-URL:https://culturasbo.com
X-WR-CALDESC:Eventos para Secretaria Municipal de Cultura e Turismo
REFRESH-INTERVAL;VALUE=DURATION:PT1H
X-Robots-Tag:noindex
X-PUBLISHED-TTL:PT1H
BEGIN:VTIMEZONE
TZID:America/Sao_Paulo
BEGIN:STANDARD
TZOFFSETFROM:-0300
TZOFFSETTO:-0300
TZNAME:-03
DTSTART:20240101T000000
END:STANDARD
END:VTIMEZONE
BEGIN:VEVENT
DTSTART;TZID=America/Sao_Paulo:20251023T200000
DTEND;TZID=America/Sao_Paulo:20251023T200000
DTSTAMP:20260423T211309
CREATED:20250929T163533Z
LAST-MODIFIED:20250929T163533Z
UID:16280-1761249600-1761249600@culturasbo.com
SUMMARY:Sonho de Uma Noite no Verão de 1967
DESCRIPTION:Classificação: Livre \nEntrada: Ingressos: R$ 20\,00 (inteira) e R$ 10 (meia) \nInformações: (19) 99586-1677
URL:https://culturasbo.com/evento/sonho-de-uma-noite-no-verao-de-1967/
LOCATION:Teatro Municipal Manoel Lyra\, Rua João XXIII\, 61 - Centro\, Santa Bárbara d'Oeste\, SP\, 13450-040\, Brasil
CATEGORIES:Espetáculo
END:VEVENT
BEGIN:VEVENT
DTSTART;TZID=America/Sao_Paulo:20251023T200000
DTEND;TZID=America/Sao_Paulo:20251023T200000
DTSTAMP:20260423T211309
CREATED:20251001T122210Z
LAST-MODIFIED:20251001T122245Z
UID:16304-1761249600-1761249600@culturasbo.com
SUMMARY:Concertos EPTV 2025
DESCRIPTION:Classificação: 10 anos \nEntrada: Gratuita (retirar 1 hora antes do início) \nInformações: (17) 99702-8075 \n  \nSINOPSE: Os concertos EPTV apresentam concertos gratuitos do mais alto nível de música de câmara em cidades do Interior do Estado de São Paulo de forma gratuita desde 2016\, contando com a participação de músicos renomados. \nEsta edição contará com obras de relevância no repertório da música clássica e tradicional chinesa. \nFICHA TÉCNICA :  \nO grupo será composto pelos músicos: \nTong Zijuan – pipa\nQinxiang Gao yangqin\nPablo de León – violino\nHorácio Schaefer – viola\nRoberto Ring – violoncelo\nGlaucia Marques – produção\npatrocínio: EPTV e CPFL Energia \nWEB SITE DA PRODUÇÃO:  www.concertoseptv.com.br  \nINSTAGRAN: stravinskyproducoes  \nCONTATO PARA INFORMAÇÕES: Glaucia Marques : 17 997028075
URL:https://culturasbo.com/evento/concertos-eptv-2025/
LOCATION:Anfiteatro Municipal Detinha Dagnoni\, Av. Monte Castelo\, nº 1000 - Jd. Primavera\, Santa Bárbara d'Oetse\, SP\, 13450-032\, Brasil
ATTACH;FMTTYPE=image/jpeg:https://culturasbo.com/wp-content/uploads/2025/10/TRIO-IMG_9498.jpg
END:VEVENT
END:VCALENDAR