BEGIN:VCALENDAR
VERSION:2.0
PRODID:-//Secretaria Municipal de Cultura e Turismo - ECPv6.15.13//NONSGML v1.0//EN
CALSCALE:GREGORIAN
METHOD:PUBLISH
X-WR-CALNAME:Secretaria Municipal de Cultura e Turismo
X-ORIGINAL-URL:https://culturasbo.com
X-WR-CALDESC:Eventos para Secretaria Municipal de Cultura e Turismo
REFRESH-INTERVAL;VALUE=DURATION:PT1H
X-Robots-Tag:noindex
X-PUBLISHED-TTL:PT1H
BEGIN:VTIMEZONE
TZID:America/Sao_Paulo
BEGIN:STANDARD
TZOFFSETFROM:-0300
TZOFFSETTO:-0300
TZNAME:-03
DTSTART:20240101T000000
END:STANDARD
END:VTIMEZONE
BEGIN:VEVENT
DTSTART;TZID=America/Sao_Paulo:20251030T193000
DTEND;TZID=America/Sao_Paulo:20251030T193000
DTSTAMP:20260423T194647
CREATED:20250929T163957Z
LAST-MODIFIED:20250929T163957Z
UID:16284-1761852600-1761852600@culturasbo.com
SUMMARY:Espetáculo de Dança - SESI 2025
DESCRIPTION:Classificação: Livre \nEntrada: Gratuita \nInformações: (19) 3026-2800
URL:https://culturasbo.com/evento/espetaculo-de-danca-sesi-2025-2/
LOCATION:Teatro Municipal Manoel Lyra\, Rua João XXIII\, 61 - Centro\, Santa Bárbara d'Oeste\, SP\, 13450-040\, Brasil
CATEGORIES:Dança
END:VEVENT
END:VCALENDAR