BEGIN:VCALENDAR
VERSION:2.0
PRODID:-//Secretaria Municipal de Cultura e Turismo - ECPv6.15.13//NONSGML v1.0//EN
CALSCALE:GREGORIAN
METHOD:PUBLISH
X-WR-CALNAME:Secretaria Municipal de Cultura e Turismo
X-ORIGINAL-URL:https://culturasbo.com
X-WR-CALDESC:Eventos para Secretaria Municipal de Cultura e Turismo
REFRESH-INTERVAL;VALUE=DURATION:PT1H
X-Robots-Tag:noindex
X-PUBLISHED-TTL:PT1H
BEGIN:VTIMEZONE
TZID:America/Sao_Paulo
BEGIN:STANDARD
TZOFFSETFROM:-0300
TZOFFSETTO:-0300
TZNAME:-03
DTSTART:20240101T000000
END:STANDARD
END:VTIMEZONE
BEGIN:VEVENT
DTSTART;TZID=America/Sao_Paulo:20251116T073000
DTEND;TZID=America/Sao_Paulo:20251116T073000
DTSTAMP:20260423T195052
CREATED:20251114T145737Z
LAST-MODIFIED:20251114T145737Z
UID:16375-1763278200-1763278200@culturasbo.com
SUMMARY:Cortejo Afro - Novembro Negro 2025
DESCRIPTION:Entrada: Gratuita \nRealização: Secretarias de Educação e Cultura e Turismo
URL:https://culturasbo.com/evento/cortejo-afro-novembro-negro-2025/
LOCATION:Museu da Imigração\, R. João Lino\, 371 - Centro\, Santa Bárbara d'Oeste\, SP\, 13450-001\, Brasil
END:VEVENT
BEGIN:VEVENT
DTSTART;TZID=America/Sao_Paulo:20251116T090000
DTEND;TZID=America/Sao_Paulo:20251116T090000
DTSTAMP:20260423T195052
CREATED:20251114T150156Z
LAST-MODIFIED:20251114T150156Z
UID:16377-1763283600-1763283600@culturasbo.com
SUMMARY:Periferia em Movimento - Novembro Negro 2025
DESCRIPTION:Entrada: Gratuita \nRealização: Secretarias de  Educação e Cultura e Turismo \n  \n 
URL:https://culturasbo.com/evento/periferia-em-movimento-novembro-negro-2025/
LOCATION:EMEFEI Profª Mª M. G. Valente – Dona Bininha\, Rua Padre Arthur Aampaio\, 571 - Conj. Roberto Rimano\, Santa Bárbara d'Oeste\, São Paulo\, Brazil
END:VEVENT
BEGIN:VEVENT
DTSTART;TZID=America/Sao_Paulo:20251116T150000
DTEND;TZID=America/Sao_Paulo:20251116T150000
DTSTAMP:20260423T195052
CREATED:20251114T150641Z
LAST-MODIFIED:20251114T162314Z
UID:16380-1763305200-1763305200@culturasbo.com
SUMMARY:Circuito Hip Hop - Novembro Negro 2025
DESCRIPTION:Entrada: Gratuita \nRealização: Batalha do CEU e Secretaria de Cultura e Turismo \n15h – Abertura \n15h – Marana (Grafite) \n16h – Zannin + Helena \n16h30 – Monkey Head + PXD \n17h – Batalha de Rima \n19h30 – Female Group \n2oh – Jotapê \n 
URL:https://culturasbo.com/evento/circuito-hip-hop-novembro-negro-2025/
LOCATION:CEU das Artes\, R. Argeu Egídio dos Santos\, 100 - Planalto do Sol II\, Santa Bárbara d'Oeste\, São Paulo\, Brasil
CATEGORIES:Apresentação Artística,Dança,Espetáculo,Evento,Intervenção Artística,Música
END:VEVENT
BEGIN:VEVENT
DTSTART;TZID=America/Sao_Paulo:20251116T160000
DTEND;TZID=America/Sao_Paulo:20251116T160000
DTSTAMP:20260423T195052
CREATED:20251114T150838Z
LAST-MODIFIED:20251114T150838Z
UID:16382-1763308800-1763308800@culturasbo.com
SUMMARY:Flavinho no Pagode: Pele Preta - Palco Aberto - Novembro Negro 2025
DESCRIPTION:Entrada: Gratuita \nRealização: Secretaria de Cultura e Turismo
URL:https://culturasbo.com/evento/flavinho-no-pagode-pele-preta-palco-aberto-novembro-negro-2025/
LOCATION:Parque dos Ipês\, Av. Corifeu de Azevedo Marques\, Jardim Belo Horizonte\, Santa Bárbara d'Oeste\, São Paulo\, Brazil
CATEGORIES:Música
END:VEVENT
END:VCALENDAR