BEGIN:VCALENDAR
VERSION:2.0
PRODID:-//Secretaria Municipal de Cultura e Turismo - ECPv6.15.13//NONSGML v1.0//EN
CALSCALE:GREGORIAN
METHOD:PUBLISH
X-ORIGINAL-URL:https://culturasbo.com
X-WR-CALDESC:Eventos para Secretaria Municipal de Cultura e Turismo
REFRESH-INTERVAL;VALUE=DURATION:PT1H
X-Robots-Tag:noindex
X-PUBLISHED-TTL:PT1H
BEGIN:VTIMEZONE
TZID:America/Sao_Paulo
BEGIN:STANDARD
TZOFFSETFROM:-0300
TZOFFSETTO:-0300
TZNAME:-03
DTSTART:20250101T000000
END:STANDARD
END:VTIMEZONE
BEGIN:VEVENT
DTSTART;TZID=America/Sao_Paulo:20260302T180000
DTEND;TZID=America/Sao_Paulo:20260302T180000
DTSTAMP:20260423T142653
CREATED:20260302T145446Z
LAST-MODIFIED:20260302T151014Z
UID:17478-1772474400-1772474400@culturasbo.com
SUMMARY:Audiência Pública para Implementação do Plano Municipal de Gestão Integrada de Resíduos Sólidos de Santa Bárbara d'Oeste / Secretaria do Meio Ambiente
DESCRIPTION:Informações: (19) 3459-1480
URL:https://culturasbo.com/evento/audiencia-publica-para-implementacao-do-plano-municipal-de-gestao-integrada-de-residuos-solidos-de-santa-barbara-doeste-secretaria-do-meio-ambiente/
LOCATION:Anfiteatro Municipal Detinha Dagnoni\, Av. Monte Castelo\, nº 1000 - Jd. Primavera\, Santa Bárbara d'Oetse\, SP\, 13450-032\, Brasil
END:VEVENT
END:VCALENDAR