BEGIN:VCALENDAR
VERSION:2.0
PRODID:-//Secretaria Municipal de Cultura e Turismo - ECPv6.15.13//NONSGML v1.0//EN
CALSCALE:GREGORIAN
METHOD:PUBLISH
X-ORIGINAL-URL:https://culturasbo.com
X-WR-CALDESC:Eventos para Secretaria Municipal de Cultura e Turismo
REFRESH-INTERVAL;VALUE=DURATION:PT1H
X-Robots-Tag:noindex
X-PUBLISHED-TTL:PT1H
BEGIN:VTIMEZONE
TZID:America/Sao_Paulo
BEGIN:STANDARD
TZOFFSETFROM:-0300
TZOFFSETTO:-0300
TZNAME:-03
DTSTART:20250101T000000
END:STANDARD
END:VTIMEZONE
BEGIN:VEVENT
DTSTART;TZID=America/Sao_Paulo:20260306T183000
DTEND;TZID=America/Sao_Paulo:20260306T230000
DTSTAMP:20260423T142653
CREATED:20260302T162101Z
LAST-MODIFIED:20260302T162119Z
UID:17505-1772821800-1772838000@culturasbo.com
SUMMARY:Happy Hour no Museu
DESCRIPTION:Classificação: Livre \nEntrada: Gratuita \nInformações: (19) 3455-7000 \nO happy hour é para arrecadar fundos para a corporação\, com karaokê e alimentação. Um encontro especial para soltar a voz e reunir amigos.
URL:https://culturasbo.com/evento/happy-hour-no-museu-2/
LOCATION:Museu da Imigração\, R. João Lino\, 371 - Centro\, Santa Bárbara d'Oeste\, SP\, 13450-001\, Brasil
CATEGORIES:Evento,Reunião
END:VEVENT
END:VCALENDAR