BEGIN:VCALENDAR
VERSION:2.0
PRODID:-//Secretaria Municipal de Cultura e Turismo - ECPv6.15.13//NONSGML v1.0//EN
CALSCALE:GREGORIAN
METHOD:PUBLISH
X-WR-CALNAME:Secretaria Municipal de Cultura e Turismo
X-ORIGINAL-URL:https://culturasbo.com
X-WR-CALDESC:Eventos para Secretaria Municipal de Cultura e Turismo
REFRESH-INTERVAL;VALUE=DURATION:PT1H
X-Robots-Tag:noindex
X-PUBLISHED-TTL:PT1H
BEGIN:VTIMEZONE
TZID:America/Sao_Paulo
BEGIN:STANDARD
TZOFFSETFROM:-0300
TZOFFSETTO:-0300
TZNAME:-03
DTSTART:20250101T000000
END:STANDARD
END:VTIMEZONE
BEGIN:VEVENT
DTSTART;TZID=America/Sao_Paulo:20260319T180000
DTEND;TZID=America/Sao_Paulo:20260319T180000
DTSTAMP:20260423T142615
CREATED:20260302T145155Z
LAST-MODIFIED:20260302T145155Z
UID:17476-1773943200-1773943200@culturasbo.com
SUMMARY:Colação de Grau Anhanguera Santa Bárbara d'Oeste
DESCRIPTION:Classificação: Livre \nEVENTO FECHADO \nInformações: (19) 3464-9424
URL:https://culturasbo.com/evento/colacao-de-grau-anhanguera-santa-barbara-doeste-2/
END:VEVENT
END:VCALENDAR