BEGIN:VCALENDAR
VERSION:2.0
PRODID:-//Secretaria Municipal de Cultura e Turismo - ECPv6.15.13//NONSGML v1.0//EN
CALSCALE:GREGORIAN
METHOD:PUBLISH
X-WR-CALNAME:Secretaria Municipal de Cultura e Turismo
X-ORIGINAL-URL:https://culturasbo.com
X-WR-CALDESC:Eventos para Secretaria Municipal de Cultura e Turismo
REFRESH-INTERVAL;VALUE=DURATION:PT1H
X-Robots-Tag:noindex
X-PUBLISHED-TTL:PT1H
BEGIN:VTIMEZONE
TZID:America/Sao_Paulo
BEGIN:STANDARD
TZOFFSETFROM:-0300
TZOFFSETTO:-0300
TZNAME:-03
DTSTART:20250101T000000
END:STANDARD
END:VTIMEZONE
BEGIN:VEVENT
DTSTART;TZID=America/Sao_Paulo:20260323T190000
DTEND;TZID=America/Sao_Paulo:20260323T190000
DTSTAMP:20260423T142615
CREATED:20260304T114038Z
LAST-MODIFIED:20260304T114154Z
UID:17533-1774292400-1774292400@culturasbo.com
SUMMARY:Clube de Leitura do Léo - "A Morte e A Morte de Quincas Berro D'Água"\, de Jorge Amado
DESCRIPTION:Classificação: Livre \nEntrada: Gratuita \nInformações: (19) 3457-4627 \n 
URL:https://culturasbo.com/evento/clube-de-leitura-do-leo-a-morte-e-a-morte-de-quincas-berro-dagua-de-jorge-amado/
CATEGORIES:Reunião
END:VEVENT
END:VCALENDAR