BEGIN:VCALENDAR
VERSION:2.0
PRODID:-//Secretaria Municipal de Cultura e Turismo - ECPv6.15.13//NONSGML v1.0//EN
CALSCALE:GREGORIAN
METHOD:PUBLISH
X-WR-CALNAME:Secretaria Municipal de Cultura e Turismo
X-ORIGINAL-URL:https://culturasbo.com
X-WR-CALDESC:Eventos para Secretaria Municipal de Cultura e Turismo
REFRESH-INTERVAL;VALUE=DURATION:PT1H
X-Robots-Tag:noindex
X-PUBLISHED-TTL:PT1H
BEGIN:VTIMEZONE
TZID:America/Sao_Paulo
BEGIN:STANDARD
TZOFFSETFROM:-0300
TZOFFSETTO:-0300
TZNAME:-03
DTSTART:20240101T000000
END:STANDARD
END:VTIMEZONE
BEGIN:VEVENT
DTSTART;TZID=America/Sao_Paulo:20250406T150000
DTEND;TZID=America/Sao_Paulo:20250406T150000
DTSTAMP:20260424T121843
CREATED:20250328T164344Z
LAST-MODIFIED:20250328T165658Z
UID:15327-1743951600-1743951600@culturasbo.com
SUMMARY:Pinóquio - Teatro Musical Infantil
DESCRIPTION:Classificação: Livre \nEntrada: R$ 50\,00 (inteira) e R$ 25\,00 (meia/antecipado) \nPromoção Flyer: 2 ingressos por R$ 40\,00 – Flyer Estudantil: As Escolas tem direito a Flyer Estudantil. Apresentando o Flyer\, uma criança paga R$15\,00 e um acompanhante paga R$25\,00 \nIngressos no site (www.ingressodigital.com) ou bilheteria do teatro \nInformações: 19 99157-6538 / (19) 3464-9424 \n00 \nSinopse: Pinoquio foi concebido e transposto para o palco  para encantar e com sensibilidade (re) despertar a emoção. As músicas\, nessa condução\, funcionando como partes integrantes das falas das personagens. Para tanto foi selecionado um elenco entre profissionais de  artes cênicas\, com preparação vocal e musical para desenvolver uma produção cuidadosa\, dentro do melhor padrão estético. E acima dos belos e elogiados figurinos\, o cuidado com a linguagem e o respeito aos pequenos. Com a responsabilidade e entendimento de que é uma obrigação de  quem faz Teatro para Criança\, propiciar a todos\, de todas as idades\, momento único e inesquecível de magia e encantamento.
URL:https://culturasbo.com/evento/pinoquio-teatro-musical-infantil/
LOCATION:Teatro Municipal Manoel Lyra\, Rua João XXIII\, 61 - Centro\, Santa Bárbara d'Oeste\, SP\, 13450-040\, Brasil
CATEGORIES:Apresentação Artística,Teatro
ATTACH;FMTTYPE=image/jpeg:https://culturasbo.com/wp-content/uploads/2025/03/3.jpeg
END:VEVENT
BEGIN:VEVENT
DTSTART;TZID=America/Sao_Paulo:20250410T180000
DTEND;TZID=America/Sao_Paulo:20250410T180000
DTSTAMP:20260424T121843
CREATED:20250506T122757Z
LAST-MODIFIED:20250506T122757Z
UID:15560-1744308000-1744308000@culturasbo.com
SUMMARY:Batalha do CEU
DESCRIPTION:Classificação: Livre \nEntrada: Gratuita \nInformações: (19) 3458-5868
URL:https://culturasbo.com/evento/batalha-do-ceu-3/
LOCATION:CEU das Artes\, R. Argeu Egídio dos Santos\, 100 - Planalto do Sol II\, Santa Bárbara d'Oeste\, São Paulo\, Brasil
CATEGORIES:Apresentação Artística,Evento,Música,Show
END:VEVENT
BEGIN:VEVENT
DTSTART;TZID=America/Sao_Paulo:20250413T180000
DTEND;TZID=America/Sao_Paulo:20250413T180000
DTSTAMP:20260424T121843
CREATED:20250331T163149Z
LAST-MODIFIED:20250331T163149Z
UID:15345-1744567200-1744567200@culturasbo.com
SUMMARY:Batalha do CEU
DESCRIPTION:Classificação: Livre \nEntrada: Gratuita \nInforamções: (19) 3458-5868
URL:https://culturasbo.com/evento/batalha-do-ceu-2/
LOCATION:CEU das Artes\, R. Argeu Egídio dos Santos\, 100 - Planalto do Sol II\, Santa Bárbara d'Oeste\, São Paulo\, Brasil
CATEGORIES:Apresentação Artística,Evento,Música,Show
END:VEVENT
BEGIN:VEVENT
DTSTART;TZID=America/Sao_Paulo:20250424T133000
DTEND;TZID=America/Sao_Paulo:20250424T133000
DTSTAMP:20260424T121843
CREATED:20250331T161704Z
LAST-MODIFIED:20250403T121551Z
UID:15334-1745501400-1745501400@culturasbo.com
SUMMARY:Lendas da Mata - GT Mirabolantes - 19° Encontra Conto
DESCRIPTION:Classificação: Livre \nEntrada: Gratuita \nInformações: (19) 99767-2582 / (19) 3464-9424 \n  \nSinopse: O grupo de teatro Mirabolantes apresenta: “Lendas da mata”\, dois exploradores meio atrapalhados e muito bem-humorados\, após estudarem lendas de locais em locais do Brasil\, vão divertir a plateia e contar as histórias que encontraram por esse caminho. Utilizando de utensílios dos mais comuns deixados na sua tenda\, eles trazem cada lenda de forma lúdica\, com palhaçaria\, dança e criatividade ao transformar cada objeto que tocam. Dedé e Tigo são dois exploradores que viajam pelo Brasil coletando lendas e contos do folclore brasileiro\, aprendendo em cada localidade\, seus costumes e suas culturas. De forma bem didática e surpreendente\, eles vão utilizar de tudo o que estiver ao seu alcancepara apresentar essas lendas para o público. Então sejam todos bem-vindos e aproveitem as “Lendas da Mata”!
URL:https://culturasbo.com/evento/lendas-da-mata-gt-mirabolantes-19-encontra-conto/
LOCATION:Teatro Municipal Manoel Lyra\, Rua João XXIII\, 61 - Centro\, Santa Bárbara d'Oeste\, SP\, 13450-040\, Brasil
CATEGORIES:Apresentação Artística,Teatro
ATTACH;FMTTYPE=image/jpeg:https://culturasbo.com/wp-content/uploads/2025/03/FOTO-2.jpg
END:VEVENT
BEGIN:VEVENT
DTSTART;TZID=America/Sao_Paulo:20250425T200000
DTEND;TZID=America/Sao_Paulo:20250425T200000
DTSTAMP:20260424T121843
CREATED:20250331T162127Z
LAST-MODIFIED:20250416T131425Z
UID:15336-1745611200-1745611200@culturasbo.com
SUMMARY:Uma Noite de Grandes Classicos - Orquestra Filarmônica de Santa Bárbara D'Oeste
DESCRIPTION:Classificação: Livre \nEntrada: Ingresso solidário (mediante doação de 1kg de alimento não perecível) \nReservas de ingresso online pelo site: https://ingressodigital.com/evento/16014/uma-noite-de-grandes-classicos \nInformações: (19) 99245-2191 / (19) 3464-9424 \nWeb Site da Produção – Instagram: @ofisb.official \n  \nSinopse: A Orquestra Filarmônica de Santa Bárbara d’Oeste apresentará um repertório Clássico e de compositores renomados\, sucessos como Alvorada e O Guarani de Carlos Gomes entre outros.
URL:https://culturasbo.com/evento/noite-de-grandes-classicos-orquestra-filarmonica-de-santa-barbara-doeste/
LOCATION:Teatro Municipal Manoel Lyra\, Rua João XXIII\, 61 - Centro\, Santa Bárbara d'Oeste\, SP\, 13450-040\, Brasil
CATEGORIES:Apresentação Artística,Música
ATTACH;FMTTYPE=image/jpeg:https://culturasbo.com/wp-content/uploads/2025/03/FOTO-1-2.jpg
END:VEVENT
BEGIN:VEVENT
DTSTART;TZID=America/Sao_Paulo:20250426T140000
DTEND;TZID=America/Sao_Paulo:20250426T140000
DTSTAMP:20260424T121843
CREATED:20250331T163750Z
LAST-MODIFIED:20250331T163750Z
UID:15349-1745676000-1745676000@culturasbo.com
SUMMARY:Histórias Fantásticas de Pifi e Pafe - 19° Encontra Conto
DESCRIPTION:Classificação: Livre \nEntrada: Gratuita \nInforamções: (19) 3458-5868
URL:https://culturasbo.com/evento/historias-fantasticas-de-pifi-e-pafe-19-encontra-conto/
LOCATION:CEU das Artes\, R. Argeu Egídio dos Santos\, 100 - Planalto do Sol II\, Santa Bárbara d'Oeste\, São Paulo\, Brasil
CATEGORIES:Apresentação Artística,Evento,Reunião
END:VEVENT
BEGIN:VEVENT
DTSTART;TZID=America/Sao_Paulo:20250426T140000
DTEND;TZID=America/Sao_Paulo:20250426T140000
DTSTAMP:20260424T121843
CREATED:20250331T163950Z
LAST-MODIFIED:20250331T163950Z
UID:15351-1745676000-1745676000@culturasbo.com
SUMMARY:Os Fabulantes - 19° Encontra Conto
DESCRIPTION:Classificação: Livre \nEntrada: Gratuita \nInforamções: (19) 3458-5868
URL:https://culturasbo.com/evento/os-fabulantes-19-encontra-conto/
LOCATION:São Paulo
CATEGORIES:Apresentação Artística,Evento,Reunião
END:VEVENT
BEGIN:VEVENT
DTSTART;TZID=America/Sao_Paulo:20250426T200000
DTEND;TZID=America/Sao_Paulo:20250426T200000
DTSTAMP:20260424T121843
CREATED:20250331T162442Z
LAST-MODIFIED:20250403T121724Z
UID:15338-1745697600-1745697600@culturasbo.com
SUMMARY:Alma de Brasileiro - Paul Cabannes
DESCRIPTION:Classificação: 12 anos \nEntrada: R$ 100\,00 (inteira) e R$ 50\,00 (meia) \nIngressos no site (www.ingressodigital.com) ou bilheteria do teatro \nInformações: (19) 3464-9424 \nSinopse: Após uma década morando no Brasil\, o francês Paul Cabannes compartilha com o público sua visão peculiar da cultura brasileira. Seu show é um retrato em formato de stand up que responde à pergunta: o que é ter alma de Brasileiro?
URL:https://culturasbo.com/evento/alma-de-brasileiro-paul-cabannes/
LOCATION:Teatro Municipal Manoel Lyra\, Rua João XXIII\, 61 - Centro\, Santa Bárbara d'Oeste\, SP\, 13450-040\, Brasil
CATEGORIES:Apresentação Artística,Stand Up
ATTACH;FMTTYPE=image/jpeg:https://culturasbo.com/wp-content/uploads/2025/03/FOTO-1-1.jpg
END:VEVENT
BEGIN:VEVENT
DTSTART;TZID=America/Sao_Paulo:20250427T120000
DTEND;TZID=America/Sao_Paulo:20250427T180000
DTSTAMP:20260424T121843
CREATED:20250331T164119Z
LAST-MODIFIED:20250331T164119Z
UID:15353-1745755200-1745776800@culturasbo.com
SUMMARY:Samba de Madureira
DESCRIPTION:Classificação: Livre \nEntrada: Gratuita \nInforamções: (19) 3458-5868
URL:https://culturasbo.com/evento/samba-de-madureira-2/
LOCATION:CEU das Artes\, R. Argeu Egídio dos Santos\, 100 - Planalto do Sol II\, Santa Bárbara d'Oeste\, São Paulo\, Brasil
CATEGORIES:Apresentação Artística,Dança,Música,Show
END:VEVENT
END:VCALENDAR