BEGIN:VCALENDAR
VERSION:2.0
PRODID:-//Secretaria Municipal de Cultura e Turismo - ECPv6.15.13//NONSGML v1.0//EN
CALSCALE:GREGORIAN
METHOD:PUBLISH
X-WR-CALNAME:Secretaria Municipal de Cultura e Turismo
X-ORIGINAL-URL:https://culturasbo.com
X-WR-CALDESC:Eventos para Secretaria Municipal de Cultura e Turismo
REFRESH-INTERVAL;VALUE=DURATION:PT1H
X-Robots-Tag:noindex
X-PUBLISHED-TTL:PT1H
BEGIN:VTIMEZONE
TZID:America/Sao_Paulo
BEGIN:STANDARD
TZOFFSETFROM:-0300
TZOFFSETTO:-0300
TZNAME:-03
DTSTART:20240101T000000
END:STANDARD
END:VTIMEZONE
BEGIN:VEVENT
DTSTART;TZID=America/Sao_Paulo:20250908T160000
DTEND;TZID=America/Sao_Paulo:20250908T160000
DTSTAMP:20260424T035627
CREATED:20260302T162433Z
LAST-MODIFIED:20260302T162433Z
UID:17508-1757347200-1757347200@culturasbo.com
SUMMARY:Batalha do CEU
DESCRIPTION:Classificação: Livre \nEntrada: Gratuita \nInformações: (19) 3458-5868
URL:https://culturasbo.com/evento/batalha-do-ceu-10/
LOCATION:CEU das Artes\, R. Argeu Egídio dos Santos\, 100 - Planalto do Sol II\, Santa Bárbara d'Oeste\, São Paulo\, Brasil
CATEGORIES:Apresentação Artística,Evento,Música,Show
END:VEVENT
BEGIN:VEVENT
DTSTART;TZID=America/Sao_Paulo:20250914T160000
DTEND;TZID=America/Sao_Paulo:20250914T163000
DTSTAMP:20260424T035627
CREATED:20250905T123822Z
LAST-MODIFIED:20250905T123822Z
UID:16234-1757865600-1757867400@culturasbo.com
SUMMARY:Bloco do Traquitana - Palco Aberto
DESCRIPTION:Classificação: Livre \nEntrada: Gratuita
URL:https://culturasbo.com/evento/bloco-do-traquitana-palco-aberto/
LOCATION:Parque dos Ipês\, Av. Corifeu de Azevedo Marques\, Jardim Belo Horizonte\, Santa Bárbara d'Oeste\, São Paulo\, Brazil
CATEGORIES:Apresentação Artística,Festival
END:VEVENT
BEGIN:VEVENT
DTSTART;TZID=America/Sao_Paulo:20250914T180000
DTEND;TZID=America/Sao_Paulo:20250914T180000
DTSTAMP:20260424T035627
CREATED:20250901T150705Z
LAST-MODIFIED:20250901T150705Z
UID:16132-1757872800-1757872800@culturasbo.com
SUMMARY:Batalha do CEU
DESCRIPTION:Classificação: Livre \nEntrada: Gratuita \nInformações: (19) 3458-5868
URL:https://culturasbo.com/evento/batalha-do-ceu-9/
LOCATION:CEU das Artes\, R. Argeu Egídio dos Santos\, 100 - Planalto do Sol II\, Santa Bárbara d'Oeste\, São Paulo\, Brasil
CATEGORIES:Apresentação Artística,Evento,Música,Show
END:VEVENT
BEGIN:VEVENT
DTSTART;TZID=America/Sao_Paulo:20250921T090000
DTEND;TZID=America/Sao_Paulo:20250921T090000
DTSTAMP:20260424T035627
CREATED:20250905T124100Z
LAST-MODIFIED:20250905T124100Z
UID:16236-1758445200-1758445200@culturasbo.com
SUMMARY:Doce Amargo - Grandplié Studio de Dança e Teatro - Palco Aberto
DESCRIPTION:Classificação: Livre \nEntrada: Gratuita
URL:https://culturasbo.com/evento/doce-amargo-grandplie-studio-de-danca-e-teatro-palco-aberto/
LOCATION:Parque dos Jacarandás\, R. do Estanho\, s/n - Vila Mollon IV\, Santa Bárbara d'Oeste\, São Paulo\, 13456-520
CATEGORIES:Apresentação Artística,Festival
END:VEVENT
BEGIN:VEVENT
DTSTART;TZID=America/Sao_Paulo:20250928T160000
DTEND;TZID=America/Sao_Paulo:20250928T160000
DTSTAMP:20260424T035627
CREATED:20250905T124244Z
LAST-MODIFIED:20250905T124244Z
UID:16238-1759075200-1759075200@culturasbo.com
SUMMARY:Banda das Bárbaras - Palco Aberto
DESCRIPTION:Classificação: Livre \nEntrada: Gratuita
URL:https://culturasbo.com/evento/banda-das-barbaras-palco-aberto/
LOCATION:Parque dos Ipês\, Av. Corifeu de Azevedo Marques\, Jardim Belo Horizonte\, Santa Bárbara d'Oeste\, São Paulo\, Brazil
CATEGORIES:Apresentação Artística,Festival
END:VEVENT
END:VCALENDAR