BEGIN:VCALENDAR
VERSION:2.0
PRODID:-//Secretaria Municipal de Cultura e Turismo - ECPv6.15.13//NONSGML v1.0//EN
CALSCALE:GREGORIAN
METHOD:PUBLISH
X-WR-CALNAME:Secretaria Municipal de Cultura e Turismo
X-ORIGINAL-URL:https://culturasbo.com
X-WR-CALDESC:Eventos para Secretaria Municipal de Cultura e Turismo
REFRESH-INTERVAL;VALUE=DURATION:PT1H
X-Robots-Tag:noindex
X-PUBLISHED-TTL:PT1H
BEGIN:VTIMEZONE
TZID:America/Sao_Paulo
BEGIN:STANDARD
TZOFFSETFROM:-0300
TZOFFSETTO:-0300
TZNAME:-03
DTSTART:20240101T000000
END:STANDARD
END:VTIMEZONE
BEGIN:VEVENT
DTSTART;TZID=America/Sao_Paulo:20251210T193000
DTEND;TZID=America/Sao_Paulo:20251210T193000
DTSTAMP:20260423T224427
CREATED:20251209T162926Z
LAST-MODIFIED:20251210T130330Z
UID:16510-1765395000-1765395000@culturasbo.com
SUMMARY:Mostra Caminhos da Cultura - 3ª Edição
DESCRIPTION:Terça às 19h30 e Quarta às 20h \nClassificação: Livre \nEntrada: Gratuita (Retirada 1 hora antes do evento) \nInformações: (19) 3464-9424 \nA 3ª edição da Mostra de Artes do Programa Caminhos da Cultura será a grande atração em Santa Bárbara d’Oeste nos próximos dias\, marcando o encerramento das atividades anuais das oficinas do segundo semestre deste ano. O evento acontecerá nos dias 9 e 10 de dezembro\, terça e quarta-feira que vem\, no Teatro Municipal Manoel Lyra\, e contará também com uma exposição especial no Museu da Imigração de 9 a 19 deste mês. \nA programação de palco no Teatro terá início no dia 9\, às 19h30\, com performances dos alunos de K-Pop\, Ballet e Ritmos. Já na noite seguinte\, dia 10\, a partir das 20 horas\, será a vez das turmas de Violão\, Jazz Dance\, Capoeira e Canto subirem ao palco. Para assistir aos espetáculos\, os interessados devem retirar os ingressos gratuitamente na bilheteria do Teatro (Rua João XXIII\, 61\, Centro)\, sempre uma hora antes do início das sessões. \nComo parte do encerramento das aulas do segundo semestre\, haverá uma exposição no Museu da Imigração\, aberta ao público de 9 a 19 de dezembro. A exibição reúne peças produzidas pelos alunos das oficinas de amigurumi\, arte em feltro\, bordado\, crochê\, desenho artístico\, macramê\, pintura em tecido e pintura em tela. A visitação no Museu (Rua João Lino\, 371\, Centro) acontecerá das 9 às 12 horas e das 13 às 17 horas\, sendo que\, excepcionalmente no dia 12 de deste mês\, o horário será estendido até as 22 horas. \nAo longo deste ano\, o Programa de Formação e Oficinas Culturais – Escola de Artes “Caminhos da Cultura” atendeu 1.814 alunos\, inscritos em 117 oficinas gratuitas. As aulas ocorreram de forma descentralizada no Centro Cultural e Biblioteca Profº Léo Sallum (Cidade Nova)\, no Tricânico (Romano)\, no CEU das Artes (Planalto do Sol II)\, no Centro de Memórias\, no Museu da Imigração e no Teatro Municipal Manoel Lyra\, situados na área central. \nServiço: \n3ª Edição da Mostra de Artes do Programa Caminhos da Cultura\nAlunos do 2º semestre de 2025 \nDia 9 de dezembro\, terça\, às 19h30\nK-Pop\, Ballet e Ritmos \nDia 10 de dezembro\, quarta\, às 20h\nViolão\, Jazz Dance\, Capoeira e Canto \n  \n 
URL:https://culturasbo.com/evento/mostra-caminhos-da-cultura-3a-edicao/
LOCATION:Teatro Municipal Manoel Lyra\, Rua João XXIII\, 61 - Centro\, Santa Bárbara d'Oeste\, SP\, 13450-040\, Brasil
CATEGORIES:Apresentação Artística
ATTACH;FMTTYPE=image/jpeg:https://culturasbo.com/wp-content/uploads/2025/12/572a94d7d1ab871133f75b8dc6df4f67.jpg
END:VEVENT
BEGIN:VEVENT
DTSTART;TZID=America/Sao_Paulo:20251213T190000
DTEND;TZID=America/Sao_Paulo:20251213T190000
DTSTAMP:20260423T224427
CREATED:20251210T135016Z
LAST-MODIFIED:20251210T135016Z
UID:16525-1765652400-1765652400@culturasbo.com
SUMMARY:Tempera\, Rega e Entrega - Laboratório da Dança
DESCRIPTION:Classificação: Livre \nEntrada: Ingressos: R$ 110 (inteira) e R$ 55 (meia e meia solidária) \nVenda de ingressos nas redes sociais: https://cialdd.com.br/tempera-rega-e-entrega/ \nInformações: (19) 99794-0667 \nSinopse: “Navegar é preciso\, viver não é preciso”. \nEm cada gesto\, pensamento ou sentimento\, existe uma possibilidade invisível — algo que pulsa além do previsível\, pronto para se revelar quando o olhar se abre e o coração se dispõe. \nTEMPERA\, REGA E ENTREGA é um espetáculo que fala sobre o ato de viver com presença\, sobre a escolha de cultivar o que nos transforma e colore. Inspirado nos gestos simples — temperar\, regar e entregar —\, o trabalho convida o público a refletir sobre o quanto somos parte ativa na construção de uma existência mais sensível\, saborosa e luminosa. \nNo rio da vida\, navegaremos movimentos que evocam fé exercitada por desejo e empenho\, fazendo da dança a metáfora de um processo contínuo de criação e transformação — onde o amor é o ingrediente essencial e o corpo\, o território fértil onde tudo floresce. \n  \nFicha técnica: \nDireção Geral e Artística:\nFernanda Araújo \nCoreógrafos:\nAna Laura Bagarolo\nCintia Nogueira \nEdinei Annanias\nFelipe Santos\nFernanda Araújo\nHelena Macchi\nLavínia Rodrigues\nOlivia Peressim \nProdução Teatral:\nNúcleo Artístico Corpus \nProdução e Comunicação Visual:\nThaís Godoy \nSonoplastia:\nHelena Macchi \nSecretaria:\nMichele Bueno \nIdentidade Visual:\nJuliana Tonin \nFigurinos: \nSônia Recchia\nFernanda Crisp Rozinell\nAlice Hayasaka\nPatrícia Mascarenhas \nAdereços Cênicos: \nAna Laura Bagarolo\nFernanda Araújo\nLucineide Lucena \nIluminação:\nValmir Leite\nVinicius Ferreira \nFotografia:\nRudi Silva \nFilmagem:\nImaginário Filmes \nCONTATO PARA INFORMAÇÕES: (19) 99214-5355
URL:https://culturasbo.com/evento/tempera-rega-e-entrega-laboratorio-da-danca/
LOCATION:Teatro Municipal Manoel Lyra\, Rua João XXIII\, 61 - Centro\, Santa Bárbara d'Oeste\, SP\, 13450-040\, Brasil
CATEGORIES:Apresentação Artística
ATTACH;FMTTYPE=image/jpeg:https://culturasbo.com/wp-content/uploads/2025/12/IMG_3299.jpg
END:VEVENT
BEGIN:VEVENT
DTSTART;TZID=America/Sao_Paulo:20251214T163000
DTEND;TZID=America/Sao_Paulo:20251214T163000
DTSTAMP:20260423T224427
CREATED:20251210T141457Z
LAST-MODIFIED:20251210T141457Z
UID:16528-1765729800-1765729800@culturasbo.com
SUMMARY:Aiwa\, Bellyrock - Ballet\, Dança Cigana e Dança do Ventre Com o Tema de Rock
DESCRIPTION:Classificação: Livre \nEntrada: Ingressos: R$ 20 (interia) e R$ 10 (meia/antecipado) \nInformações: (19) 99168-1043
URL:https://culturasbo.com/evento/aiwa-bellyrock-ballet-danca-cigana-e-danca-do-ventre-com-o-tema-de-rock/
LOCATION:Anfiteatro Municipal Detinha Dagnoni\, Av. Monte Castelo\, nº 1000 - Jd. Primavera\, Santa Bárbara d'Oetse\, SP\, 13450-032\, Brasil
CATEGORIES:Apresentação Artística
END:VEVENT
END:VCALENDAR