BEGIN:VCALENDAR
VERSION:2.0
PRODID:-//Secretaria Municipal de Cultura e Turismo - ECPv6.15.13//NONSGML v1.0//EN
CALSCALE:GREGORIAN
METHOD:PUBLISH
X-WR-CALNAME:Secretaria Municipal de Cultura e Turismo
X-ORIGINAL-URL:https://culturasbo.com
X-WR-CALDESC:Eventos para Secretaria Municipal de Cultura e Turismo
REFRESH-INTERVAL;VALUE=DURATION:PT1H
X-Robots-Tag:noindex
X-PUBLISHED-TTL:PT1H
BEGIN:VTIMEZONE
TZID:America/Sao_Paulo
BEGIN:STANDARD
TZOFFSETFROM:-0300
TZOFFSETTO:-0300
TZNAME:-03
DTSTART:20240101T000000
END:STANDARD
END:VTIMEZONE
BEGIN:VEVENT
DTSTART;TZID=America/Sao_Paulo:20250615T120000
DTEND;TZID=America/Sao_Paulo:20250615T180000
DTSTAMP:20260424T105106
CREATED:20250603T123624Z
LAST-MODIFIED:20250603T141606Z
UID:15860-1749988800-1750010400@culturasbo.com
SUMMARY:Projeto Samb’Ajuda
DESCRIPTION:Classificação: Livre \nEntrada: Gratuita – Solidária: mediante doação de 1 kg de alimento não perecível ou 1 litro de leite (não é obrigatório\, mas muito bem vindo!) \nAs doações serão destinadas a instituição social da cidade \nInformações: (19) 3455-7000
URL:https://culturasbo.com/evento/projeto-sambajuda-3/
LOCATION:Museu da Imigração\, R. João Lino\, 371 - Centro\, Santa Bárbara d'Oeste\, SP\, 13450-001\, Brasil
CATEGORIES:Apresentação Artística,Música,Show
ATTACH;FMTTYPE=image/jpeg:https://culturasbo.com/wp-content/uploads/2025/05/DSC_4389-scaled.jpg
END:VEVENT
BEGIN:VEVENT
DTSTART;TZID=America/Sao_Paulo:20250615T180000
DTEND;TZID=America/Sao_Paulo:20250615T180000
DTSTAMP:20260424T105106
CREATED:20250603T115206Z
LAST-MODIFIED:20250603T140029Z
UID:15844-1750010400-1750010400@culturasbo.com
SUMMARY:Batalha do CEU
DESCRIPTION:Classificação: Livre \nEntrada: Gratuita \nInformações: (19) 3458-5868
URL:https://culturasbo.com/evento/batalha-do-ceu-clone/
LOCATION:CEU das Artes\, R. Argeu Egídio dos Santos\, 100 - Planalto do Sol II\, Santa Bárbara d'Oeste\, São Paulo\, Brasil
CATEGORIES:Apresentação Artística,Evento,Música,Show
END:VEVENT
END:VCALENDAR