BEGIN:VCALENDAR
VERSION:2.0
PRODID:-//Secretaria Municipal de Cultura e Turismo - ECPv6.15.13//NONSGML v1.0//EN
CALSCALE:GREGORIAN
METHOD:PUBLISH
X-ORIGINAL-URL:https://culturasbo.com
X-WR-CALDESC:Eventos para Secretaria Municipal de Cultura e Turismo
REFRESH-INTERVAL;VALUE=DURATION:PT1H
X-Robots-Tag:noindex
X-PUBLISHED-TTL:PT1H
BEGIN:VTIMEZONE
TZID:America/Sao_Paulo
BEGIN:STANDARD
TZOFFSETFROM:-0300
TZOFFSETTO:-0300
TZNAME:-03
DTSTART:20240101T000000
END:STANDARD
END:VTIMEZONE
BEGIN:VEVENT
DTSTART;TZID=America/Sao_Paulo:20250705T090000
DTEND;TZID=America/Sao_Paulo:20250705T090000
DTSTAMP:20260424T093135
CREATED:20250704T144012Z
LAST-MODIFIED:20250704T144532Z
UID:16051-1751706000-1751706000@culturasbo.com
SUMMARY:Histórias Fantásticas de Pifi e Pafe - Cia Xekmat - Palco Aberto 2025
DESCRIPTION:Classificação: Livre \nEntrada: Gratuita
URL:https://culturasbo.com/evento/historias-fantasticas-de-pifi-e-pafe-cia-xekmat-palco-aberto-2025/
LOCATION:Parque dos Jacarandás\, R. do Estanho\, s/n - Vila Mollon IV\, Santa Bárbara d'Oeste\, São Paulo\, 13456-520
CATEGORIES:Apresentação Artística,Espetáculo
END:VEVENT
END:VCALENDAR