BEGIN:VCALENDAR
VERSION:2.0
PRODID:-//Secretaria Municipal de Cultura e Turismo - ECPv6.15.13//NONSGML v1.0//EN
CALSCALE:GREGORIAN
METHOD:PUBLISH
X-WR-CALNAME:Secretaria Municipal de Cultura e Turismo
X-ORIGINAL-URL:https://culturasbo.com
X-WR-CALDESC:Eventos para Secretaria Municipal de Cultura e Turismo
REFRESH-INTERVAL;VALUE=DURATION:PT1H
X-Robots-Tag:noindex
X-PUBLISHED-TTL:PT1H
BEGIN:VTIMEZONE
TZID:America/Sao_Paulo
BEGIN:STANDARD
TZOFFSETFROM:-0300
TZOFFSETTO:-0300
TZNAME:-03
DTSTART:20240101T000000
END:STANDARD
END:VTIMEZONE
BEGIN:VEVENT
DTSTART;TZID=America/Sao_Paulo:20250611T193000
DTEND;TZID=America/Sao_Paulo:20250611T193000
DTSTAMP:20260424T221351
CREATED:20250603T114614Z
LAST-MODIFIED:20250603T114657Z
UID:15834-1749670200-1749670200@culturasbo.com
SUMMARY:Difusão 14° Mostra de Cinema e Direitos Humanos
DESCRIPTION:Classificação: Livre \nEntrada: Gratuita \nInformações: (19) 3458-5868
URL:https://culturasbo.com/evento/difusao-14-mostra-de-cinema-e-direitos-humanos-clone/
LOCATION:CEU das Artes\, R. Argeu Egídio dos Santos\, 100 - Planalto do Sol II\, Santa Bárbara d'Oeste\, São Paulo\, Brasil
CATEGORIES:Audiovisual
END:VEVENT
END:VCALENDAR