BEGIN:VCALENDAR
VERSION:2.0
PRODID:-//Secretaria Municipal de Cultura e Turismo - ECPv6.15.13//NONSGML v1.0//EN
CALSCALE:GREGORIAN
METHOD:PUBLISH
X-ORIGINAL-URL:https://culturasbo.com
X-WR-CALDESC:Eventos para Secretaria Municipal de Cultura e Turismo
REFRESH-INTERVAL;VALUE=DURATION:PT1H
X-Robots-Tag:noindex
X-PUBLISHED-TTL:PT1H
BEGIN:VTIMEZONE
TZID:America/Sao_Paulo
BEGIN:STANDARD
TZOFFSETFROM:-0300
TZOFFSETTO:-0300
TZNAME:-03
DTSTART:20240101T000000
END:STANDARD
END:VTIMEZONE
BEGIN:VEVENT
DTSTART;TZID=America/Sao_Paulo:20250624T190000
DTEND;TZID=America/Sao_Paulo:20250624T190000
DTSTAMP:20260424T124256
CREATED:20250605T111159Z
LAST-MODIFIED:20250605T111159Z
UID:15905-1750791600-1750791600@culturasbo.com
SUMMARY:Circulo do Livro - "Capitães de Areia de Jorge Amado
DESCRIPTION:Classificação: Livre \nEntrada: Gratuita (sem necessidade de inscrição) \nInforamções: (19) 3455-2619 \nTeremos sorteio de um livro\, com o título a ser escolhido pela biblioteca! \n  \nSobre a Obra: Capitães de Areia é uma obra do escritor baiano Jorge Amado\, publicada em 1937.Trata-se de um romance moderno de denúncia social com o tema centrado na miséria dos meninos de rua.\nO nome do livro faz referência ao bando de meninos\, os capitães de areia.Essa o foi censurada pelo governo de Getúlio Vargas e Jorge Amado foi preso durante o período da Ditadura Militar. Por esse motivo\, muitos livros (cerca de 1000 exemplares) foram queimados em praça pública na capital baiana: Salvador.\nPedro Bala\, Professor\, Gato\, Sem Pernas e Boa Vida são adolescentes abandonados por suas famílias\, que crescem nas ruas de Salvador e vivem em comunidade no Trapiche. Eles praticam uma série de assaltos e são constantemente perseguidos pela polícia. Um dia\, Professor conhece Dora e seu irmão Zé Fuinha e os leva até o Trapiche\, o que desencadeia a excitação dos demais garotos\, que não estão acostumados à presença de uma mulher no local. Aos poucos\, nasce o afeto entre o líder do grupo e a jovem. \n 
URL:https://culturasbo.com/evento/circulo-do-livro-capitaes-de-areia-de-jorge-amado/
LOCATION:Biblioteca Central\, R. Campos Sales\, 70 - Vila Breda\, Santa Bárbara d'Oeste\, São Paulo\, 13450-219\, Brazil
CATEGORIES:Círculo do Livro
END:VEVENT
END:VCALENDAR