BEGIN:VCALENDAR
VERSION:2.0
PRODID:-//Secretaria Municipal de Cultura e Turismo - ECPv6.15.13//NONSGML v1.0//EN
CALSCALE:GREGORIAN
METHOD:PUBLISH
X-ORIGINAL-URL:https://culturasbo.com
X-WR-CALDESC:Eventos para Secretaria Municipal de Cultura e Turismo
REFRESH-INTERVAL;VALUE=DURATION:PT1H
X-Robots-Tag:noindex
X-PUBLISHED-TTL:PT1H
BEGIN:VTIMEZONE
TZID:America/Sao_Paulo
BEGIN:STANDARD
TZOFFSETFROM:-0300
TZOFFSETTO:-0300
TZNAME:-03
DTSTART:20250101T000000
END:STANDARD
END:VTIMEZONE
BEGIN:VEVENT
DTSTART;TZID=America/Sao_Paulo:20260324T190000
DTEND;TZID=America/Sao_Paulo:20260324T190000
DTSTAMP:20260423T211120
CREATED:20260304T113629Z
LAST-MODIFIED:20260304T113629Z
UID:17529-1774378800-1774378800@culturasbo.com
SUMMARY:Circulo do Livro - "Nas Asas da Leitura" - Participação do Escritor Marco Haurélio
DESCRIPTION:Classificação: Livre \nEntrada: Gratuita (sem necessidade de inscrição) \nInforamções: (19) 3455-2619 \n 
URL:https://culturasbo.com/evento/circulo-do-livro-nas-asas-da-leitura-participacao-do-escritor-marco-haurelio/
LOCATION:Biblioteca Central\, R. Campos Sales\, 70 - Vila Breda\, Santa Bárbara d'Oeste\, São Paulo\, 13450-219\, Brazil
CATEGORIES:Círculo do Livro
END:VEVENT
END:VCALENDAR