BEGIN:VCALENDAR
VERSION:2.0
PRODID:-//Secretaria Municipal de Cultura e Turismo - ECPv6.15.13//NONSGML v1.0//EN
CALSCALE:GREGORIAN
METHOD:PUBLISH
X-ORIGINAL-URL:https://culturasbo.com
X-WR-CALDESC:Eventos para Secretaria Municipal de Cultura e Turismo
REFRESH-INTERVAL;VALUE=DURATION:PT1H
X-Robots-Tag:noindex
X-PUBLISHED-TTL:PT1H
BEGIN:VTIMEZONE
TZID:America/Sao_Paulo
BEGIN:STANDARD
TZOFFSETFROM:-0300
TZOFFSETTO:-0300
TZNAME:-03
DTSTART:20230101T000000
END:STANDARD
END:VTIMEZONE
BEGIN:VEVENT
DTSTART;TZID=America/Sao_Paulo:20240321T190000
DTEND;TZID=America/Sao_Paulo:20240321T190000
DTSTAMP:20260425T084830
CREATED:20240319T143017Z
LAST-MODIFIED:20241008T114505Z
UID:12562-1711047600-1711047600@culturasbo.com
SUMMARY:Círculo do Livro - "O peso do pássaro Morto" de Aline Bei
DESCRIPTION:Classificação: 15 anos \nEntrada: Gratuita (não precisa de inscrição) \nInformações entre em contato pelo WhatsApp da Biblioteca : (19) 3455-2619    https://wa.me/message/2UQZSXT4QHBKM1 \nNo Círculo do Livro desse mês teremos o livro“ O peso do pássaro Morto” da autora Aline Bei\, vencedor do prêmio São Paulo de Literatura e do prêmio Toca. \n* Sobre a Obra:\nO livro passa pela vida de uma mulher\, dos oito aos 52\, desde as singelezas cotidianas até as tragédias que persistem\, uma geração após a outra. Um livro denso e leve\, violento e poético\, onde a personagem que\, com todas as forças\, tenta não coincidir apenas com a dor de que é feita. \nTeremos sorteio de um livro\, com o título a ser escolhido pela biblioteca!
URL:https://culturasbo.com/evento/circulo-do-livro-o-peso-do-passaro-morto-de-aline-bei/
LOCATION:Biblioteca Pública Municipal “Maria Aparecida Almeida Nogueira”\, Rua: Campos Salles\, 72 - Vila Breda\, Santa Bárbara d'Oeste\, SP\, 13450-219\, Brasil
CATEGORIES:Círculo do Livro
ATTACH;FMTTYPE=image/jpeg:https://culturasbo.com/wp-content/uploads/2024/03/20240226_134801-1-scaled.jpg
END:VEVENT
END:VCALENDAR