BEGIN:VCALENDAR
VERSION:2.0
PRODID:-//Secretaria Municipal de Cultura e Turismo - ECPv6.15.13//NONSGML v1.0//EN
CALSCALE:GREGORIAN
METHOD:PUBLISH
X-WR-CALNAME:Secretaria Municipal de Cultura e Turismo
X-ORIGINAL-URL:https://culturasbo.com
X-WR-CALDESC:Eventos para Secretaria Municipal de Cultura e Turismo
REFRESH-INTERVAL;VALUE=DURATION:PT1H
X-Robots-Tag:noindex
X-PUBLISHED-TTL:PT1H
BEGIN:VTIMEZONE
TZID:America/Sao_Paulo
BEGIN:STANDARD
TZOFFSETFROM:-0300
TZOFFSETTO:-0300
TZNAME:-03
DTSTART:20230101T000000
END:STANDARD
END:VTIMEZONE
BEGIN:VEVENT
DTSTART;TZID=America/Sao_Paulo:20240311T093000
DTEND;TZID=America/Sao_Paulo:20240311T093000
DTSTAMP:20260425T125951
CREATED:20240304T133713Z
LAST-MODIFIED:20241008T114505Z
UID:12375-1710149400-1710149400@culturasbo.com
SUMMARY:"Vagão de Histórias"
DESCRIPTION:Classificação: Livre \nEntrada: Gratuita \nInformações: (19) 99123-9043 \n“Vagão de Histórias”\, uma apresentação teatral livre\, onde dois personagens contam histórias recolhidas na \ntrajetória de cada personagem\, utilizando adereços para enriquecer a apresentação\, fazendo uso de diversas \ntécnicas de contação de histórias\, interação com o público e artes da cena\, transformando assim o ato de \ncompartilhar algo interessante e divertido para toda a família. Histórias infantis e de conhecimento popular recebem \ndestaque nessa apresentação trazendo reflexões simples\, mas importante para o dia-a-dia. \nFicha técnica: \nDramaturgia Mirabolantes. \nAtores: André Lima e Thiago Oliveira. \nDireção: Thiago Oliveira. \nSonoplastia: Amauri de oliveira.
URL:https://culturasbo.com/evento/vagao-de-historias/
LOCATION:Serviço Social em Promoção Cidadania Imaculada Conceição\, Rua: João Eduardo Mac-Knight\, 535 - Parque Res. Zabani\, Santa Bárbara d'Oeste\, SP\, 13454-475
CATEGORIES:Contação de Histórias,Teatro
ATTACH;FMTTYPE=image/jpeg:https://culturasbo.com/wp-content/uploads/2024/03/FOTO-1-atualizada.jpg
END:VEVENT
BEGIN:VEVENT
DTSTART;TZID=America/Sao_Paulo:20240311T140000
DTEND;TZID=America/Sao_Paulo:20240311T140000
DTSTAMP:20260425T125951
CREATED:20240304T134101Z
LAST-MODIFIED:20241008T114505Z
UID:12383-1710165600-1710165600@culturasbo.com
SUMMARY:"Vagão de Histórias"
DESCRIPTION:Classificação: Livre \nEntrada: Gratuita \nInformações: (19) 99123-9043 \n“Vagão de Histórias”\, uma apresentação teatral livre\, onde dois personagens contam histórias recolhidas na \ntrajetória de cada personagem\, utilizando adereços para enriquecer a apresentação\, fazendo uso de diversas \ntécnicas de contação de histórias\, interação com o público e artes da cena\, transformando assim o ato de \ncompartilhar algo interessante e divertido para toda a família. Histórias infantis e de conhecimento popular recebem \ndestaque nessa apresentação trazendo reflexões simples\, mas importante para o dia-a-dia. \nFicha técnica: \nDramaturgia Mirabolantes. \nAtores: André Lima e Thiago Oliveira. \nDireção: Thiago Oliveira. \nSonoplastia: Amauri de oliveira.
URL:https://culturasbo.com/evento/vagao-de-historias-2/
LOCATION:Centro Cultural “Edgard Tricânico D’elboux”\, Rua: Padre Arthur Sampaio\, 76 - Conj. Hab. Roberto Romano\, Santa Bárbara d'Oeste\, SP\, 13458-184
CATEGORIES:Contação de Histórias,Teatro
ATTACH;FMTTYPE=image/jpeg:https://culturasbo.com/wp-content/uploads/2024/03/FOTO-1-atualizada.jpg
END:VEVENT
END:VCALENDAR