BEGIN:VCALENDAR
VERSION:2.0
PRODID:-//Secretaria Municipal de Cultura e Turismo - ECPv6.15.13//NONSGML v1.0//EN
CALSCALE:GREGORIAN
METHOD:PUBLISH
X-WR-CALNAME:Secretaria Municipal de Cultura e Turismo
X-ORIGINAL-URL:https://culturasbo.com
X-WR-CALDESC:Eventos para Secretaria Municipal de Cultura e Turismo
REFRESH-INTERVAL;VALUE=DURATION:PT1H
X-Robots-Tag:noindex
X-PUBLISHED-TTL:PT1H
BEGIN:VTIMEZONE
TZID:America/Sao_Paulo
BEGIN:STANDARD
TZOFFSETFROM:-0300
TZOFFSETTO:-0300
TZNAME:-03
DTSTART:20230101T000000
END:STANDARD
END:VTIMEZONE
BEGIN:VEVENT
DTSTART;TZID=America/Sao_Paulo:20240515T090000
DTEND;TZID=America/Sao_Paulo:20240515T140000
DTSTAMP:20260425T103751
CREATED:20240311T171508Z
LAST-MODIFIED:20241008T114453Z
UID:12430-1715763600-1715781600@culturasbo.com
SUMMARY:“Brincadeiras e Cantigas\, com Histórias”
DESCRIPTION:Duas sessões: 9h e 14h \nClassificação: Livre \nEntrada: Gratuita \nInformações: (19) 99767-2582 – Amauri / (19) 97123-8121 – Renata \n* Sinopse:\n“Brincadeiras e Cantigas com Histórias” consiste na apresentação de uma sessão de cantigas/contações/brincadeiras\, realizadas pela arte educadora e narradora oral Renata de Paula e a arte  educadora e musicista Daniela Smanioto ou em sua substituição o músico Lucas Gonçalves de Oliveira para o público infantil e do fundamental\, em locais de acesso público. Cada sessão consiste na recepção de crianças pelas contadoras/musicistas\, apresentação de cantigas tradicionais\,  seguida do convite e ação do público para cantar com elas as cantigas apresentadas. Na sequência são contadas oralmente histórias sobre as cantigas e brinquedos tradicionais e o público é convidado a brincar com as contadoras. Bambolê\, corda\, peteca\, são alguns dos brinquedos/brincadeiras\, trazidos pelo projeto e realizadas com o público presente. \n* Ficha técnica:\nContadora/brincante: Renata de Paula\nMusicista: Daniela Smanioto e/ou Lucaz Oliveira\nTécnica: Amauri de Oliveira\nFotógrafo: Gilberto Neves
URL:https://culturasbo.com/evento/brincadeiras-e-cantigas-com-historias-2/
LOCATION:CEU das Artes -“Ariovaldo Inácio – ‘Vardão’”\, Rua: Argeu Egídio dos Santos\, 100 - Planalto do Sol II\, Santa Bárbara d'Oeste\, SP\, 13453-842\, Brasil
CATEGORIES:Apresentação Artística,Contação de Histórias
ATTACH;FMTTYPE=image/jpeg:https://culturasbo.com/wp-content/uploads/2024/03/FOTO-ATUALIZADA-2.jpg
END:VEVENT
END:VCALENDAR