BEGIN:VCALENDAR
VERSION:2.0
PRODID:-//Secretaria Municipal de Cultura e Turismo - ECPv6.15.13//NONSGML v1.0//EN
CALSCALE:GREGORIAN
METHOD:PUBLISH
X-ORIGINAL-URL:https://culturasbo.com
X-WR-CALDESC:Eventos para Secretaria Municipal de Cultura e Turismo
REFRESH-INTERVAL;VALUE=DURATION:PT1H
X-Robots-Tag:noindex
X-PUBLISHED-TTL:PT1H
BEGIN:VTIMEZONE
TZID:America/Sao_Paulo
BEGIN:STANDARD
TZOFFSETFROM:-0300
TZOFFSETTO:-0300
TZNAME:-03
DTSTART:20230101T000000
END:STANDARD
END:VTIMEZONE
BEGIN:VEVENT
DTSTART;TZID=America/Sao_Paulo:20241201T190000
DTEND;TZID=America/Sao_Paulo:20241201T190000
DTSTAMP:20260424T184732
CREATED:20241030T123639Z
LAST-MODIFIED:20241128T164416Z
UID:14462-1733079600-1733079600@culturasbo.com
SUMMARY:Aladdin o Musical - Sandra Godoy
DESCRIPTION:Classificação: Livre\nIngressos: 178\,00 (Inteira) e 89\,00 (Meia)\nInformações: (19) 3464-9427
URL:https://culturasbo.com/evento/festival-de-danca-sandra-godoy-2/
LOCATION:Teatro Municipal Manoel Lyra\, Rua João XXIII\, 61 - Centro\, Santa Bárbara d'Oeste\, SP\, 13450-040\, Brasil
CATEGORIES:Dança,Festival
END:VEVENT
BEGIN:VEVENT
DTSTART;TZID=America/Sao_Paulo:20241207T173000
DTEND;TZID=America/Sao_Paulo:20241208T193000
DTSTAMP:20260424T184732
CREATED:20241030T130742Z
LAST-MODIFIED:20241206T165454Z
UID:14466-1733592600-1733686200@culturasbo.com
SUMMARY:Vinte e Cinco - Laboratório da Dança
DESCRIPTION:Classificação: Livre\nIngressos: 90\,00 (inteira) e 45\,00 (meia)\, R$ 45\,00 (solidário) com doação de alimentos\, produtos de higiene ou limpeza.\nInformações: (19) 3464-9427 \nSábado: 17H30 \nDomingo: 19H30
URL:https://culturasbo.com/evento/festival-de-danca-laboratorio-da-danca-2/
LOCATION:Teatro Municipal Manoel Lyra\, Rua João XXIII\, 61 - Centro\, Santa Bárbara d'Oeste\, SP\, 13450-040\, Brasil
CATEGORIES:Dança
END:VEVENT
BEGIN:VEVENT
DTSTART;TZID=America/Sao_Paulo:20241212T193000
DTEND;TZID=America/Sao_Paulo:20241213T193000
DTSTAMP:20260424T184732
CREATED:20241030T131937Z
LAST-MODIFIED:20241206T165626Z
UID:14468-1734031800-1734118200@culturasbo.com
SUMMARY:Oz: O Poder Está em Você! - Grandplié Stúdio de Dança
DESCRIPTION:Classificação: Livre\nIngressos: 120\,00 (Inteira) e 60\,00 (Meia)\nInformações: (19) 3464-9427
URL:https://culturasbo.com/evento/festival-de-danca-grandplie/
LOCATION:Teatro Municipal Manoel Lyra\, Rua João XXIII\, 61 - Centro\, Santa Bárbara d'Oeste\, SP\, 13450-040\, Brasil
CATEGORIES:Dança
END:VEVENT
BEGIN:VEVENT
DTSTART;TZID=America/Sao_Paulo:20241214T190000
DTEND;TZID=America/Sao_Paulo:20241215T190000
DTSTAMP:20260424T184732
CREATED:20241030T122143Z
LAST-MODIFIED:20241128T145922Z
UID:14452-1734202800-1734289200@culturasbo.com
SUMMARY:Cia Juliana Daniel & Convidadas – Haflet Alf Mabrouk  Ballet Clássico\, Dança do Ventre e Dança Cigana
DESCRIPTION:Ingressos: Gratuito – (entrada mediante doação de alimentos e ou produtos de limpeza)\nInformações: (19) 3455-8256 \nClassificação: Livre
URL:https://culturasbo.com/evento/cia-juliana-daniel-convidadas-haflet-alf-mabrouk-danca-ballet-classico-danca-do-ventre-danca-cigana/
LOCATION:Anfiteatro Municipal Detinha Dagnoni\, Av. Monte Castelo\, nº 1000 - Jd. Primavera\, Santa Bárbara d'Oetse\, SP\, 13450-032\, Brasil
CATEGORIES:Dança
END:VEVENT
BEGIN:VEVENT
DTSTART;TZID=America/Sao_Paulo:20241220T190000
DTEND;TZID=America/Sao_Paulo:20241220T190000
DTSTAMP:20260424T184732
CREATED:20241030T134302Z
LAST-MODIFIED:20241206T170005Z
UID:14477-1734721200-1734721200@culturasbo.com
SUMMARY:Divertidamente - Academia de Dança Entrée Danse
DESCRIPTION:Classificação: Livre\nIngressos: 70\,00 (Inteira) e 35\,00 (Meia)\nTelefone: (19) 3464-9427
URL:https://culturasbo.com/evento/academia-de-danca-de-sumare-entre-e-dance/
LOCATION:Teatro Municipal Manoel Lyra\, Rua João XXIII\, 61 - Centro\, Santa Bárbara d'Oeste\, SP\, 13450-040\, Brasil
CATEGORIES:Dança
END:VEVENT
BEGIN:VEVENT
DTSTART;TZID=America/Sao_Paulo:20241221T193000
DTEND;TZID=America/Sao_Paulo:20241222T193000
DTSTAMP:20260424T184732
CREATED:20241030T134505Z
LAST-MODIFIED:20241206T170201Z
UID:14479-1734809400-1734895800@culturasbo.com
SUMMARY:Moana - Arabesque Stúdio de Dança
DESCRIPTION:Classificação: Livre Ingressos: 100\,00 (Inteira) e 50\,00(Meia) \nInformações: (19) 3464-9427
URL:https://culturasbo.com/evento/festival-de-danca-arabesque/
LOCATION:Teatro Municipal Manoel Lyra\, Rua João XXIII\, 61 - Centro\, Santa Bárbara d'Oeste\, SP\, 13450-040\, Brasil
CATEGORIES:Dança
END:VEVENT
END:VCALENDAR