BEGIN:VCALENDAR
VERSION:2.0
PRODID:-//Secretaria Municipal de Cultura e Turismo - ECPv6.15.13//NONSGML v1.0//EN
CALSCALE:GREGORIAN
METHOD:PUBLISH
X-ORIGINAL-URL:https://culturasbo.com
X-WR-CALDESC:Eventos para Secretaria Municipal de Cultura e Turismo
REFRESH-INTERVAL;VALUE=DURATION:PT1H
X-Robots-Tag:noindex
X-PUBLISHED-TTL:PT1H
BEGIN:VTIMEZONE
TZID:America/Sao_Paulo
BEGIN:STANDARD
TZOFFSETFROM:-0300
TZOFFSETTO:-0300
TZNAME:-03
DTSTART:20240101T000000
END:STANDARD
END:VTIMEZONE
BEGIN:VEVENT
DTSTART;TZID=America/Sao_Paulo:20250323T190000
DTEND;TZID=America/Sao_Paulo:20250323T190000
DTSTAMP:20260424T162247
CREATED:20250311T114526Z
LAST-MODIFIED:20250319T113356Z
UID:15160-1742756400-1742756400@culturasbo.com
SUMMARY:Gala LDD - Laboratório de Dança
DESCRIPTION:Classificação: Livre \nEntrada: R$ 50\,00 (inteira) e R$ 25\,00 (meia solidária – mediante doação de quilo de alimentos ou produtos de limpeza) \nIngressos no site www.cialdd.com.br/galaldd25 \nInformações: (19) 3464-9424 / (19) 99214-5355 / (19) 92003-8133  \nSinopse: A Gala LDD é um espetáculo que reunirá obras dos grupos de competição do Laboratório da Dança Fernanda Araújo\, premiadas em 2024 ou estreando em 2025\, para apreciação dos alunos da escola\, familiares e público em geral. No evento estarão incluídas as três coreografias da escola que estarão representando o Brasil no “Valentina Kozlova Internacional Ballet Competition”\, em Nova Iorque\, além da obra “Brazil’s Tour”\, a ser apresentada no Disney Performing Arts Program\, em Orlando\, em abril de 2025. A noite contará\, ainda\, com a participação de convidados especiais.
URL:https://culturasbo.com/evento/gala-ldd-laboratorio-de-danca/
LOCATION:Teatro Municipal Manoel Lyra\, Rua João XXIII\, 61 - Centro\, Santa Bárbara d'Oeste\, SP\, 13450-040\, Brasil
CATEGORIES:Dança
ATTACH;FMTTYPE=image/jpeg:https://culturasbo.com/wp-content/uploads/2025/03/1.jpg
END:VEVENT
END:VCALENDAR