BEGIN:VCALENDAR
VERSION:2.0
PRODID:-//Secretaria Municipal de Cultura e Turismo - ECPv6.15.13//NONSGML v1.0//EN
CALSCALE:GREGORIAN
METHOD:PUBLISH
X-WR-CALNAME:Secretaria Municipal de Cultura e Turismo
X-ORIGINAL-URL:https://culturasbo.com
X-WR-CALDESC:Eventos para Secretaria Municipal de Cultura e Turismo
REFRESH-INTERVAL;VALUE=DURATION:PT1H
X-Robots-Tag:noindex
X-PUBLISHED-TTL:PT1H
BEGIN:VTIMEZONE
TZID:America/Sao_Paulo
BEGIN:STANDARD
TZOFFSETFROM:-0300
TZOFFSETTO:-0300
TZNAME:-03
DTSTART:20240101T000000
END:STANDARD
END:VTIMEZONE
BEGIN:VEVENT
DTSTART;TZID=America/Sao_Paulo:20251007T193000
DTEND;TZID=America/Sao_Paulo:20251007T193000
DTSTAMP:20260424T092308
CREATED:20250929T143821Z
LAST-MODIFIED:20250929T164814Z
UID:16273-1759865400-1759865400@culturasbo.com
SUMMARY:AMEV - Festival Artístico
DESCRIPTION:Evento Fechado \nInformações: (19) 99809-8286
URL:https://culturasbo.com/evento/amev-festival-artistico/
LOCATION:Teatro Municipal Manoel Lyra\, Rua João XXIII\, 61 - Centro\, Santa Bárbara d'Oeste\, SP\, 13450-040\, Brasil
CATEGORIES:Evento
END:VEVENT
BEGIN:VEVENT
DTSTART;TZID=America/Sao_Paulo:20251010T183000
DTEND;TZID=America/Sao_Paulo:20251010T183000
DTSTAMP:20260424T092308
CREATED:20251001T125332Z
LAST-MODIFIED:20251001T125332Z
UID:16335-1760121000-1760121000@culturasbo.com
SUMMARY:Happy Hour no Museu
DESCRIPTION:Classificação: Livre \nEntrada: Gratuita \nInformações: (19) 3455-7000 \nUma noite com karaokê\, e praça de alimentação
URL:https://culturasbo.com/evento/happy-hour-no-museu/
LOCATION:Museu da Imigração\, R. João Lino\, 371 - Centro\, Santa Bárbara d'Oeste\, SP\, 13450-001\, Brasil
CATEGORIES:Evento
ATTACH;FMTTYPE=image/jpeg:https://culturasbo.com/wp-content/uploads/2024/05/FOTO-ATUALIZADA-2.jpg
END:VEVENT
END:VCALENDAR