BEGIN:VCALENDAR
VERSION:2.0
PRODID:-//Secretaria Municipal de Cultura e Turismo - ECPv6.15.13//NONSGML v1.0//EN
CALSCALE:GREGORIAN
METHOD:PUBLISH
X-ORIGINAL-URL:https://culturasbo.com
X-WR-CALDESC:Eventos para Secretaria Municipal de Cultura e Turismo
REFRESH-INTERVAL;VALUE=DURATION:PT1H
X-Robots-Tag:noindex
X-PUBLISHED-TTL:PT1H
BEGIN:VTIMEZONE
TZID:America/Sao_Paulo
BEGIN:STANDARD
TZOFFSETFROM:-0300
TZOFFSETTO:-0300
TZNAME:-03
DTSTART:20230101T000000
END:STANDARD
END:VTIMEZONE
BEGIN:VEVENT
DTSTART;TZID=America/Sao_Paulo:20240607T180000
DTEND;TZID=America/Sao_Paulo:20240607T180000
DTSTAMP:20260425T072626
CREATED:20240604T141409Z
LAST-MODIFIED:20241008T114442Z
UID:13514-1717783200-1717783200@culturasbo.com
SUMMARY:Happy Hour da Corporação Musical União Barbarense
DESCRIPTION:Classificação: Livre \nEntrada: Gratuita \nInformações: (19) 99696-6734 \nSinopse:\nEvento aberto ao público com apresentação da Corporação Musical. \nVai ter lanche de pernil\, cuscuz mole\, doces e bebidas. \nTerá karaokê\, para participar fazer a inscrição no dia.
URL:https://culturasbo.com/evento/happy-hour-da-corporacao-musical-uniao-barbarense-2/
LOCATION:Museu da Imigração\, R. João Lino\, 371 - Centro\, Santa Bárbara d'Oeste\, SP\, 13450-001\, Brasil
CATEGORIES:Evento
ATTACH;FMTTYPE=image/jpeg:https://culturasbo.com/wp-content/uploads/2024/05/FOTO-ATUALIZADA-2.jpg
END:VEVENT
END:VCALENDAR