BEGIN:VCALENDAR
VERSION:2.0
PRODID:-//Secretaria Municipal de Cultura e Turismo - ECPv6.15.13//NONSGML v1.0//EN
CALSCALE:GREGORIAN
METHOD:PUBLISH
X-WR-CALNAME:Secretaria Municipal de Cultura e Turismo
X-ORIGINAL-URL:https://culturasbo.com
X-WR-CALDESC:Eventos para Secretaria Municipal de Cultura e Turismo
REFRESH-INTERVAL;VALUE=DURATION:PT1H
X-Robots-Tag:noindex
X-PUBLISHED-TTL:PT1H
BEGIN:VTIMEZONE
TZID:America/Sao_Paulo
BEGIN:STANDARD
TZOFFSETFROM:-0300
TZOFFSETTO:-0300
TZNAME:-03
DTSTART:20230101T000000
END:STANDARD
END:VTIMEZONE
BEGIN:VEVENT
DTSTART;TZID=America/Sao_Paulo:20240615T160000
DTEND;TZID=America/Sao_Paulo:20240615T220000
DTSTAMP:20260425T072420
CREATED:20240419T132902Z
LAST-MODIFIED:20241008T114442Z
UID:12792-1718467200-1718488800@culturasbo.com
SUMMARY:Arraiá do Traquitana - Festa Junina
DESCRIPTION:Classificação: Livre \nEntrada: Gratuita \nInformações: (19) 99144-9145 \nSinopse:\nO Bloco Carnavalesco realizará a Festa Junina que contará com Food Trucks de comidas e bebidas típicas\, show ao vivo com samba da Nega com músicas juninas\, participação do Bloco da Lilica com quadrilha inclusiva e brinquedos infláveis para as crianças. \n* Ficha técnica:\nEQUIPE TRAQUITANA
URL:https://culturasbo.com/evento/arraia-do-traquitana-festa-junina/
LOCATION:Museu da Imigração\, R. João Lino\, 371 - Centro\, Santa Bárbara d'Oeste\, SP\, 13450-001\, Brasil
CATEGORIES:Evento
ATTACH;FMTTYPE=image/jpeg:https://culturasbo.com/wp-content/uploads/2024/04/foto-2-atualizada.jpg
END:VEVENT
END:VCALENDAR