BEGIN:VCALENDAR
VERSION:2.0
PRODID:-//Secretaria Municipal de Cultura e Turismo - ECPv6.15.13//NONSGML v1.0//EN
CALSCALE:GREGORIAN
METHOD:PUBLISH
X-ORIGINAL-URL:https://culturasbo.com
X-WR-CALDESC:Eventos para Secretaria Municipal de Cultura e Turismo
REFRESH-INTERVAL;VALUE=DURATION:PT1H
X-Robots-Tag:noindex
X-PUBLISHED-TTL:PT1H
BEGIN:VTIMEZONE
TZID:America/Sao_Paulo
BEGIN:STANDARD
TZOFFSETFROM:-0300
TZOFFSETTO:-0300
TZNAME:-03
DTSTART:20230101T000000
END:STANDARD
END:VTIMEZONE
BEGIN:VEVENT
DTSTART;TZID=America/Sao_Paulo:20240522T133000
DTEND;TZID=America/Sao_Paulo:20240522T133000
DTSTAMP:20260425T002522
CREATED:20240311T170456Z
LAST-MODIFIED:20241008T114453Z
UID:12420-1716384600-1716384600@culturasbo.com
SUMMARY:"Narrativas em Tinta"
DESCRIPTION:Classificação: Livre \nEntrada: Gratuita \nInformações: (19) 99767-2582 – Amauri / (19) 99115-6601 – Elisabete \nSinopse:\nExposição de obras artísticas de pintura sobre tela (acrílico\, encaústica\, óleo) retratando locais históricos e turísticos de Santa Bárbara d’Oeste (Usina Santa Bárbara\, Parque dos Ipês\, Usina de Cillos\, Santão\, etc. ) e sessão de narrativa oral versando especificamente sobre os locais apresentados nas pintura. \n* Ficha técnica:\nArtista Visual/expositora – Elisabete Padovezi\nNarrador oral – Amauri de Oliveira\nMonitora – Renata de Paula\nFotógrafo – Gilberto Neves
URL:https://culturasbo.com/evento/narrativas-em-tinta-3/
LOCATION:Serviço de Assistência Social Meimei – SAS Meimei\, Rua: Joaquim de Oliveira\, 806 - Centro\, Santa Bárbara d'Oeste\, SP\, 13450-038
CATEGORIES:Apresentação Artística,Exposição
ATTACH;FMTTYPE=image/jpeg:https://culturasbo.com/wp-content/uploads/2024/03/FOTO-ATUALIZADA-1-.jpg
END:VEVENT
BEGIN:VEVENT
DTSTART;TZID=America/Sao_Paulo:20240527T090000
DTEND;TZID=America/Sao_Paulo:20240527T090000
DTSTAMP:20260425T002522
CREATED:20240311T184316Z
LAST-MODIFIED:20241008T114442Z
UID:12422-1716800400-1716800400@culturasbo.com
SUMMARY:"Narrativas em Tinta"
DESCRIPTION:Classificação: Livre \nEntrada: Gratuita \nInformações: (19) 99767-2582 – Amauri / (19) 99115-6601 – Elisabete \nSinopse:\nExposição de obras artísticas de pintura sobre tela (acrílico\, encaústica\, óleo) retratando locais históricos e turísticos de Santa Bárbara d’Oeste (Usina Santa Bárbara\, Parque dos Ipês\, Usina de Cillos\, Santão\, etc. ) e sessão de narrativa oral versando especificamente sobre os locais apresentados nas pintura. \n* Ficha técnica:\nArtista Visual/expositora – Elisabete Padovezi\nNarrador oral – Amauri de Oliveira\nMonitora – Renata de Paula\nFotógrafo – Gilberto Neves
URL:https://culturasbo.com/evento/narrativas-em-tinta-5/
LOCATION:Vida Longa “Rosemeire de Oliveira – Rose”\, Rua Polônia\, 1680 - Jd. Cândido Bertini\, Santa Bárbara d'Oeste\, SP\, 13455-192\, Brasil
CATEGORIES:Apresentação Artística,Exposição
ATTACH;FMTTYPE=image/jpeg:https://culturasbo.com/wp-content/uploads/2024/03/FOTO-ATUALIZADA-1-.jpg
END:VEVENT
END:VCALENDAR