BEGIN:VCALENDAR
VERSION:2.0
PRODID:-//Secretaria Municipal de Cultura e Turismo - ECPv6.15.13//NONSGML v1.0//EN
CALSCALE:GREGORIAN
METHOD:PUBLISH
X-ORIGINAL-URL:https://culturasbo.com
X-WR-CALDESC:Eventos para Secretaria Municipal de Cultura e Turismo
REFRESH-INTERVAL;VALUE=DURATION:PT1H
X-Robots-Tag:noindex
X-PUBLISHED-TTL:PT1H
BEGIN:VTIMEZONE
TZID:America/Sao_Paulo
BEGIN:STANDARD
TZOFFSETFROM:-0300
TZOFFSETTO:-0300
TZNAME:-03
DTSTART:20240101T000000
END:STANDARD
END:VTIMEZONE
BEGIN:VEVENT
DTSTART;TZID=America/Sao_Paulo:20250625T090000
DTEND;TZID=America/Sao_Paulo:20250627T170000
DTSTAMP:20260424T093137
CREATED:20250603T125902Z
LAST-MODIFIED:20250603T141718Z
UID:15865-1750842000-1751043600@culturasbo.com
SUMMARY:2° Edição da Mostra de Artes "Caminhos da Cultura”
DESCRIPTION:Data: de 25 a 27 de Junho\, das 9h às 12h e das 13h às 17h \nClassificação: Livre \nEntrada: Gratuita \nInformações: (19) 3455-7000 \n  \nSinopse: Trabalhos feitos pelos alunos durante as oficinas relaizadas no Museu da Imigração\, Centro de Memórias e Centro Cultural “Edgard Tricânico D’Elboux”\, são elas: \n-Desenho Artístico: Instrutor André Queiroz \n-Crochê: Instutora Maria Yukiko \n-Bordado: Instrutora Marisa Yukiko \n-Arte em Feltro: Instrutor Sérgio Fronza \n-Pintura em Óleo Sobre Tela: Instrutora Elisabete Padovezi \n-Pintura em Tecido: Instrutora Elisabete Padovesi
URL:https://culturasbo.com/evento/2-edicao-da-mostra-de-artes-caminhos-da-cultura/
LOCATION:Museu da Imigração\, R. João Lino\, 371 - Centro\, Santa Bárbara d'Oeste\, SP\, 13450-001\, Brasil
CATEGORIES:Apresentação Artística,Exposição
END:VEVENT
BEGIN:VEVENT
DTSTART;TZID=America/Sao_Paulo:20250625T090000
DTEND;TZID=America/Sao_Paulo:20250627T170000
DTSTAMP:20260424T093137
CREATED:20251203T141351Z
LAST-MODIFIED:20251203T141351Z
UID:16502-1750842000-1751043600@culturasbo.com
SUMMARY:Mostra de Artes "Caminhos da Cultura”
DESCRIPTION:Período: 9 a 19 de dezembro \nHorário: 9h às 12h e 13h às 17h \nHorário especial (12 de dezembro): 9h às 12h e 13h às 22h \nClassificação: Livre \nEntrada: Gratuita \nInformações: (19) 3455-7000 \nO Museu da Imigração de Santa Bárbara d’Oeste recebe\, de 9 a 19 de dezembro\, a exposição “Caminhos da Cultura”\, que reúne trabalhos produzidos por alunos do Programa de Formação e Oficinas Culturais – Escola de Artes “Caminhos da Cultura”. A mostra reúne peças produzidas em diferentes técnicas artesanais\, apresentando os resultados das oficinas oferecidas gratuitamente pela Secretaria de Cultura e Turismo ao longo do 2º semestre da iniciativa. \nEntre os trabalhos expostos\, o público poderá apreciar produções realizadas nas oficinas de crochê\, arte em feltro\, pintura em tecido\, pintura em óleo sobre tela\, amigurumi e macramê. Cada técnica representa um percurso artístico singular\, refletindo a dedicação dos participantes e o impacto positivo das ações formativas oferecidas pelo programa\, além de incentivar a prática artesanal na cidade e dar visibilidade ao talento dos alunos. \nO Programa de Formação e Oficinas Culturais de Santa Bárbara d’Oeste – Escola de Artes “Caminhos da Cultura” tem como objetivo garantir à população barbarense\, de todas as idades\, acesso gratuito às mais variadas expressões artísticas e culturais. A iniciativa busca contribuir para o desenvolvimento das vocações artísticas locais\, por meio de um processo de aprendizagem contínuo\, regulamentado pela Lei Municipal nº 4.281\, de 16 de fevereiro de 2022.
URL:https://culturasbo.com/evento/mostra-de-artes-caminhos-da-cultura/
LOCATION:Museu da Imigração\, R. João Lino\, 371 - Centro\, Santa Bárbara d'Oeste\, SP\, 13450-001\, Brasil
CATEGORIES:Apresentação Artística,Exposição
ATTACH;FMTTYPE=image/jpeg:https://culturasbo.com/wp-content/uploads/2025/12/6335fa66905cb4c47684b68411c2d0da.jpg
END:VEVENT
END:VCALENDAR